BEGIN:VCALENDAR
VERSION:2.0
PRODID:-//NA Knoxville - ECPv6.15.14//NONSGML v1.0//EN
CALSCALE:GREGORIAN
METHOD:PUBLISH
X-WR-CALNAME:NA Knoxville
X-ORIGINAL-URL:https://naknoxville.org
X-WR-CALDESC:Events for NA Knoxville
REFRESH-INTERVAL;VALUE=DURATION:PT1H
X-Robots-Tag:noindex
X-PUBLISHED-TTL:PT1H
BEGIN:VTIMEZONE
TZID:America/Kentucky/Monticello
BEGIN:DAYLIGHT
TZOFFSETFROM:-0500
TZOFFSETTO:-0400
TZNAME:EDT
DTSTART:20280312T070000
END:DAYLIGHT
BEGIN:STANDARD
TZOFFSETFROM:-0400
TZOFFSETTO:-0500
TZNAME:EST
DTSTART:20281105T060000
END:STANDARD
BEGIN:DAYLIGHT
TZOFFSETFROM:-0500
TZOFFSETTO:-0400
TZNAME:EDT
DTSTART:20290311T070000
END:DAYLIGHT
BEGIN:STANDARD
TZOFFSETFROM:-0400
TZOFFSETTO:-0500
TZNAME:EST
DTSTART:20291104T060000
END:STANDARD
BEGIN:DAYLIGHT
TZOFFSETFROM:-0500
TZOFFSETTO:-0400
TZNAME:EDT
DTSTART:20300310T070000
END:DAYLIGHT
BEGIN:STANDARD
TZOFFSETFROM:-0400
TZOFFSETTO:-0500
TZNAME:EST
DTSTART:20301103T060000
END:STANDARD
END:VTIMEZONE
BEGIN:VEVENT
DTSTART;TZID=America/Kentucky/Monticello:20290317T090000
DTEND;TZID=America/Kentucky/Monticello:20290317T100000
DTSTAMP:20260420T034940
CREATED:20240120T152001Z
LAST-MODIFIED:20240120T152002Z
UID:10000441-1868432400-1868436000@naknoxville.org
SUMMARY:KANA H&I Monthly Meeting
DESCRIPTION:Come and get involved in Hospitals and Institutions! Any addict welcome to participate. Orientations given\, some positions involve clean time suggestions and different facilities will have strict requirements.
URL:https://naknoxville.org/event/kana-hi-monthly-meeting-2/2029-03-17/
LOCATION:Square Dance Center\, 828 Tulip Avenue\, Knoxville\, TN\, 37921\, United States
CATEGORIES:H&I,KANA Event,Service Committee
ATTACH;FMTTYPE=image/png:https://naknoxville.org/wp-content/uploads/2023/11/cropped-naBlueLogo-e1616205159655.png
END:VEVENT
BEGIN:VEVENT
DTSTART;TZID=America/Kentucky/Monticello:20290317T100000
DTEND;TZID=America/Kentucky/Monticello:20290317T130000
DTSTAMP:20260420T034940
CREATED:20240114T173245Z
LAST-MODIFIED:20240114T183108Z
UID:10000466-1868436000-1868446800@naknoxville.org
SUMMARY:KANA Area Service Committee (ASC) Meeting
DESCRIPTION:Open to any addict – come take part in discussion at the area level between home groups’ Group Service Representatives (GSRs)\, Area Trusted Servants\, and other participants! \n3rd Saturdays at 10am\, 828 Tulip Avenue!
URL:https://naknoxville.org/event/kana-area-service-committee-asc-meeting/2029-03-17/
LOCATION:Square Dance Center\, 828 Tulip Avenue\, Knoxville\, TN\, 37921\, United States
CATEGORIES:KANA Event,Service Committee
ATTACH;FMTTYPE=image/png:https://naknoxville.org/wp-content/uploads/2023/11/cropped-naBlueLogo-e1616205159655.png
END:VEVENT
BEGIN:VEVENT
DTSTART;TZID=America/Kentucky/Monticello:20290317T180000
DTEND;TZID=America/Kentucky/Monticello:20290317T210000
DTSTAMP:20260420T034940
CREATED:20250921T162128Z
LAST-MODIFIED:20250921T162128Z
UID:10000618-1868464800-1868475600@naknoxville.org
SUMMARY:Faith Over Fear Presents: Monthly Eat & Speak!
DESCRIPTION:
URL:https://naknoxville.org/event/faith-over-fear-presents-monthly-eat-speak/2029-03-17/
LOCATION:Martin Chapel UMC\, 1746 Ohio Ave\, Knoxville\, TN\, 37921\, United States
CATEGORIES:KANA Event
ATTACH;FMTTYPE=image/png:https://naknoxville.org/wp-content/uploads/2025/09/Faith-Over-Fear-Presents.png
END:VEVENT
BEGIN:VEVENT
DTSTART;TZID=America/Kentucky/Monticello:20290319T180000
DTEND;TZID=America/Kentucky/Monticello:20290319T200000
DTSTAMP:20260420T034940
CREATED:20260115T172520Z
LAST-MODIFIED:20260225T154755Z
UID:10000827-1868637600-1868644800@naknoxville.org
SUMMARY:Little River Group's New Literature Review Committee Presents: "The Gang Writes a New NA Book"
DESCRIPTION:
URL:https://naknoxville.org/event/little-river-groups-new-literature-review-committee-presents-the-gang-writes-a-new-na-book/2029-03-19/
LOCATION:Little River Group\, 3722 Old Knoxville Highway\, Rockford\, TN\, 37853\, United States
CATEGORIES:KANA Event
ATTACH;FMTTYPE=image/png:https://naknoxville.org/wp-content/uploads/2026/01/New-Literature-Review-Committee-1.png
END:VEVENT
BEGIN:VEVENT
DTSTART;TZID=America/Kentucky/Monticello:20290326T180000
DTEND;TZID=America/Kentucky/Monticello:20290326T200000
DTSTAMP:20260420T034940
CREATED:20260115T172520Z
LAST-MODIFIED:20260225T154755Z
UID:10000828-1869242400-1869249600@naknoxville.org
SUMMARY:Little River Group's New Literature Review Committee Presents: "The Gang Writes a New NA Book"
DESCRIPTION:
URL:https://naknoxville.org/event/little-river-groups-new-literature-review-committee-presents-the-gang-writes-a-new-na-book/2029-03-26/
LOCATION:Little River Group\, 3722 Old Knoxville Highway\, Rockford\, TN\, 37853\, United States
CATEGORIES:KANA Event
ATTACH;FMTTYPE=image/png:https://naknoxville.org/wp-content/uploads/2026/01/New-Literature-Review-Committee-1.png
END:VEVENT
BEGIN:VEVENT
DTSTART;TZID=America/Kentucky/Monticello:20290401T160000
DTEND;TZID=America/Kentucky/Monticello:20290401T170000
DTSTAMP:20260420T034940
CREATED:20260115T172747Z
LAST-MODIFIED:20260115T172747Z
UID:10000961-1869753600-1869757200@naknoxville.org
SUMMARY:Monthly ROR XXX Meeting
DESCRIPTION:
URL:https://naknoxville.org/event/monthly-ror-xxx-meeting/2029-04-01/
LOCATION:The Gateway\, 530 W Fifth Avenue\, Knoxville\, TN\, 37917\, United States
CATEGORIES:Service Committee
ATTACH;FMTTYPE=image/jpeg:https://naknoxville.org/wp-content/uploads/2023/11/default_nalogo.jpg
END:VEVENT
BEGIN:VEVENT
DTSTART;TZID=America/Kentucky/Monticello:20290402T180000
DTEND;TZID=America/Kentucky/Monticello:20290402T200000
DTSTAMP:20260420T034940
CREATED:20260115T172520Z
LAST-MODIFIED:20260225T154755Z
UID:10000829-1869847200-1869854400@naknoxville.org
SUMMARY:Little River Group's New Literature Review Committee Presents: "The Gang Writes a New NA Book"
DESCRIPTION:
URL:https://naknoxville.org/event/little-river-groups-new-literature-review-committee-presents-the-gang-writes-a-new-na-book/2029-04-02/
LOCATION:Little River Group\, 3722 Old Knoxville Highway\, Rockford\, TN\, 37853\, United States
CATEGORIES:KANA Event
ATTACH;FMTTYPE=image/png:https://naknoxville.org/wp-content/uploads/2026/01/New-Literature-Review-Committee-1.png
END:VEVENT
BEGIN:VEVENT
DTSTART;TZID=America/Kentucky/Monticello:20290409T180000
DTEND;TZID=America/Kentucky/Monticello:20290409T200000
DTSTAMP:20260420T034940
CREATED:20260115T172520Z
LAST-MODIFIED:20260225T154755Z
UID:10000830-1870452000-1870459200@naknoxville.org
SUMMARY:Little River Group's New Literature Review Committee Presents: "The Gang Writes a New NA Book"
DESCRIPTION:
URL:https://naknoxville.org/event/little-river-groups-new-literature-review-committee-presents-the-gang-writes-a-new-na-book/2029-04-09/
LOCATION:Little River Group\, 3722 Old Knoxville Highway\, Rockford\, TN\, 37853\, United States
CATEGORIES:KANA Event
ATTACH;FMTTYPE=image/png:https://naknoxville.org/wp-content/uploads/2026/01/New-Literature-Review-Committee-1.png
END:VEVENT
BEGIN:VEVENT
DTSTART;TZID=America/Kentucky/Monticello:20290410T180000
DTEND;TZID=America/Kentucky/Monticello:20290410T190000
DTSTAMP:20260420T034940
CREATED:20260115T172856Z
LAST-MODIFIED:20260115T172856Z
UID:10001021-1870538400-1870542000@naknoxville.org
SUMMARY:Monthly PR Meeting
DESCRIPTION:
URL:https://naknoxville.org/event/monthly-pr-meeting/2029-04-10/
LOCATION:Little River Group\, 3722 Old Knoxville Highway\, Rockford\, TN\, 37853\, United States
CATEGORIES:Service Committee
ATTACH;FMTTYPE=image/jpeg:https://naknoxville.org/wp-content/uploads/2023/11/default_nalogo.jpg
END:VEVENT
BEGIN:VEVENT
DTSTART;TZID=America/Kentucky/Monticello:20290416T180000
DTEND;TZID=America/Kentucky/Monticello:20290416T200000
DTSTAMP:20260420T034940
CREATED:20260115T172520Z
LAST-MODIFIED:20260225T154755Z
UID:10000831-1871056800-1871064000@naknoxville.org
SUMMARY:Little River Group's New Literature Review Committee Presents: "The Gang Writes a New NA Book"
DESCRIPTION:
URL:https://naknoxville.org/event/little-river-groups-new-literature-review-committee-presents-the-gang-writes-a-new-na-book/2029-04-16/
LOCATION:Little River Group\, 3722 Old Knoxville Highway\, Rockford\, TN\, 37853\, United States
CATEGORIES:KANA Event
ATTACH;FMTTYPE=image/png:https://naknoxville.org/wp-content/uploads/2026/01/New-Literature-Review-Committee-1.png
END:VEVENT
BEGIN:VEVENT
DTSTART;TZID=America/Kentucky/Monticello:20290421T090000
DTEND;TZID=America/Kentucky/Monticello:20290421T100000
DTSTAMP:20260420T034940
CREATED:20240120T152001Z
LAST-MODIFIED:20240120T152002Z
UID:10000442-1871456400-1871460000@naknoxville.org
SUMMARY:KANA H&I Monthly Meeting
DESCRIPTION:Come and get involved in Hospitals and Institutions! Any addict welcome to participate. Orientations given\, some positions involve clean time suggestions and different facilities will have strict requirements.
URL:https://naknoxville.org/event/kana-hi-monthly-meeting-2/2029-04-21/
LOCATION:Square Dance Center\, 828 Tulip Avenue\, Knoxville\, TN\, 37921\, United States
CATEGORIES:H&I,KANA Event,Service Committee
ATTACH;FMTTYPE=image/png:https://naknoxville.org/wp-content/uploads/2023/11/cropped-naBlueLogo-e1616205159655.png
END:VEVENT
BEGIN:VEVENT
DTSTART;TZID=America/Kentucky/Monticello:20290421T100000
DTEND;TZID=America/Kentucky/Monticello:20290421T130000
DTSTAMP:20260420T034940
CREATED:20240114T173245Z
LAST-MODIFIED:20240114T183108Z
UID:10000467-1871460000-1871470800@naknoxville.org
SUMMARY:KANA Area Service Committee (ASC) Meeting
DESCRIPTION:Open to any addict – come take part in discussion at the area level between home groups’ Group Service Representatives (GSRs)\, Area Trusted Servants\, and other participants! \n3rd Saturdays at 10am\, 828 Tulip Avenue!
URL:https://naknoxville.org/event/kana-area-service-committee-asc-meeting/2029-04-21/
LOCATION:Square Dance Center\, 828 Tulip Avenue\, Knoxville\, TN\, 37921\, United States
CATEGORIES:KANA Event,Service Committee
ATTACH;FMTTYPE=image/png:https://naknoxville.org/wp-content/uploads/2023/11/cropped-naBlueLogo-e1616205159655.png
END:VEVENT
BEGIN:VEVENT
DTSTART;TZID=America/Kentucky/Monticello:20290421T180000
DTEND;TZID=America/Kentucky/Monticello:20290421T210000
DTSTAMP:20260420T034940
CREATED:20250921T162128Z
LAST-MODIFIED:20250921T162128Z
UID:10000619-1871488800-1871499600@naknoxville.org
SUMMARY:Faith Over Fear Presents: Monthly Eat & Speak!
DESCRIPTION:
URL:https://naknoxville.org/event/faith-over-fear-presents-monthly-eat-speak/2029-04-21/
LOCATION:Martin Chapel UMC\, 1746 Ohio Ave\, Knoxville\, TN\, 37921\, United States
CATEGORIES:KANA Event
ATTACH;FMTTYPE=image/png:https://naknoxville.org/wp-content/uploads/2025/09/Faith-Over-Fear-Presents.png
END:VEVENT
BEGIN:VEVENT
DTSTART;TZID=America/Kentucky/Monticello:20290423T180000
DTEND;TZID=America/Kentucky/Monticello:20290423T200000
DTSTAMP:20260420T034940
CREATED:20260115T172520Z
LAST-MODIFIED:20260225T154755Z
UID:10000832-1871661600-1871668800@naknoxville.org
SUMMARY:Little River Group's New Literature Review Committee Presents: "The Gang Writes a New NA Book"
DESCRIPTION:
URL:https://naknoxville.org/event/little-river-groups-new-literature-review-committee-presents-the-gang-writes-a-new-na-book/2029-04-23/
LOCATION:Little River Group\, 3722 Old Knoxville Highway\, Rockford\, TN\, 37853\, United States
CATEGORIES:KANA Event
ATTACH;FMTTYPE=image/png:https://naknoxville.org/wp-content/uploads/2026/01/New-Literature-Review-Committee-1.png
END:VEVENT
BEGIN:VEVENT
DTSTART;TZID=America/Kentucky/Monticello:20290430T180000
DTEND;TZID=America/Kentucky/Monticello:20290430T200000
DTSTAMP:20260420T034940
CREATED:20260115T172520Z
LAST-MODIFIED:20260225T154755Z
UID:10000833-1872266400-1872273600@naknoxville.org
SUMMARY:Little River Group's New Literature Review Committee Presents: "The Gang Writes a New NA Book"
DESCRIPTION:
URL:https://naknoxville.org/event/little-river-groups-new-literature-review-committee-presents-the-gang-writes-a-new-na-book/2029-04-30/
LOCATION:Little River Group\, 3722 Old Knoxville Highway\, Rockford\, TN\, 37853\, United States
CATEGORIES:KANA Event
ATTACH;FMTTYPE=image/png:https://naknoxville.org/wp-content/uploads/2026/01/New-Literature-Review-Committee-1.png
END:VEVENT
BEGIN:VEVENT
DTSTART;TZID=America/Kentucky/Monticello:20290506T160000
DTEND;TZID=America/Kentucky/Monticello:20290506T170000
DTSTAMP:20260420T034940
CREATED:20260115T172747Z
LAST-MODIFIED:20260115T172747Z
UID:10000962-1872777600-1872781200@naknoxville.org
SUMMARY:Monthly ROR XXX Meeting
DESCRIPTION:
URL:https://naknoxville.org/event/monthly-ror-xxx-meeting/2029-05-06/
LOCATION:The Gateway\, 530 W Fifth Avenue\, Knoxville\, TN\, 37917\, United States
CATEGORIES:Service Committee
ATTACH;FMTTYPE=image/jpeg:https://naknoxville.org/wp-content/uploads/2023/11/default_nalogo.jpg
END:VEVENT
BEGIN:VEVENT
DTSTART;TZID=America/Kentucky/Monticello:20290507T180000
DTEND;TZID=America/Kentucky/Monticello:20290507T200000
DTSTAMP:20260420T034940
CREATED:20260115T172520Z
LAST-MODIFIED:20260225T154755Z
UID:10000834-1872871200-1872878400@naknoxville.org
SUMMARY:Little River Group's New Literature Review Committee Presents: "The Gang Writes a New NA Book"
DESCRIPTION:
URL:https://naknoxville.org/event/little-river-groups-new-literature-review-committee-presents-the-gang-writes-a-new-na-book/2029-05-07/
LOCATION:Little River Group\, 3722 Old Knoxville Highway\, Rockford\, TN\, 37853\, United States
CATEGORIES:KANA Event
ATTACH;FMTTYPE=image/png:https://naknoxville.org/wp-content/uploads/2026/01/New-Literature-Review-Committee-1.png
END:VEVENT
BEGIN:VEVENT
DTSTART;TZID=America/Kentucky/Monticello:20290508T180000
DTEND;TZID=America/Kentucky/Monticello:20290508T190000
DTSTAMP:20260420T034940
CREATED:20260115T172856Z
LAST-MODIFIED:20260115T172856Z
UID:10001022-1872957600-1872961200@naknoxville.org
SUMMARY:Monthly PR Meeting
DESCRIPTION:
URL:https://naknoxville.org/event/monthly-pr-meeting/2029-05-08/
LOCATION:Little River Group\, 3722 Old Knoxville Highway\, Rockford\, TN\, 37853\, United States
CATEGORIES:Service Committee
ATTACH;FMTTYPE=image/jpeg:https://naknoxville.org/wp-content/uploads/2023/11/default_nalogo.jpg
END:VEVENT
BEGIN:VEVENT
DTSTART;TZID=America/Kentucky/Monticello:20290514T180000
DTEND;TZID=America/Kentucky/Monticello:20290514T200000
DTSTAMP:20260420T034941
CREATED:20260115T172520Z
LAST-MODIFIED:20260225T154755Z
UID:10000835-1873476000-1873483200@naknoxville.org
SUMMARY:Little River Group's New Literature Review Committee Presents: "The Gang Writes a New NA Book"
DESCRIPTION:
URL:https://naknoxville.org/event/little-river-groups-new-literature-review-committee-presents-the-gang-writes-a-new-na-book/2029-05-14/
LOCATION:Little River Group\, 3722 Old Knoxville Highway\, Rockford\, TN\, 37853\, United States
CATEGORIES:KANA Event
ATTACH;FMTTYPE=image/png:https://naknoxville.org/wp-content/uploads/2026/01/New-Literature-Review-Committee-1.png
END:VEVENT
BEGIN:VEVENT
DTSTART;TZID=America/Kentucky/Monticello:20290519T090000
DTEND;TZID=America/Kentucky/Monticello:20290519T100000
DTSTAMP:20260420T034941
CREATED:20240120T152001Z
LAST-MODIFIED:20240120T152002Z
UID:10000443-1873875600-1873879200@naknoxville.org
SUMMARY:KANA H&I Monthly Meeting
DESCRIPTION:Come and get involved in Hospitals and Institutions! Any addict welcome to participate. Orientations given\, some positions involve clean time suggestions and different facilities will have strict requirements.
URL:https://naknoxville.org/event/kana-hi-monthly-meeting-2/2029-05-19/
LOCATION:Square Dance Center\, 828 Tulip Avenue\, Knoxville\, TN\, 37921\, United States
CATEGORIES:H&I,KANA Event,Service Committee
ATTACH;FMTTYPE=image/png:https://naknoxville.org/wp-content/uploads/2023/11/cropped-naBlueLogo-e1616205159655.png
END:VEVENT
BEGIN:VEVENT
DTSTART;TZID=America/Kentucky/Monticello:20290519T100000
DTEND;TZID=America/Kentucky/Monticello:20290519T130000
DTSTAMP:20260420T034941
CREATED:20240114T173245Z
LAST-MODIFIED:20240114T183108Z
UID:10000468-1873879200-1873890000@naknoxville.org
SUMMARY:KANA Area Service Committee (ASC) Meeting
DESCRIPTION:Open to any addict – come take part in discussion at the area level between home groups’ Group Service Representatives (GSRs)\, Area Trusted Servants\, and other participants! \n3rd Saturdays at 10am\, 828 Tulip Avenue!
URL:https://naknoxville.org/event/kana-area-service-committee-asc-meeting/2029-05-19/
LOCATION:Square Dance Center\, 828 Tulip Avenue\, Knoxville\, TN\, 37921\, United States
CATEGORIES:KANA Event,Service Committee
ATTACH;FMTTYPE=image/png:https://naknoxville.org/wp-content/uploads/2023/11/cropped-naBlueLogo-e1616205159655.png
END:VEVENT
BEGIN:VEVENT
DTSTART;TZID=America/Kentucky/Monticello:20290519T180000
DTEND;TZID=America/Kentucky/Monticello:20290519T210000
DTSTAMP:20260420T034941
CREATED:20250921T162128Z
LAST-MODIFIED:20250921T162128Z
UID:10000620-1873908000-1873918800@naknoxville.org
SUMMARY:Faith Over Fear Presents: Monthly Eat & Speak!
DESCRIPTION:
URL:https://naknoxville.org/event/faith-over-fear-presents-monthly-eat-speak/2029-05-19/
LOCATION:Martin Chapel UMC\, 1746 Ohio Ave\, Knoxville\, TN\, 37921\, United States
CATEGORIES:KANA Event
ATTACH;FMTTYPE=image/png:https://naknoxville.org/wp-content/uploads/2025/09/Faith-Over-Fear-Presents.png
END:VEVENT
BEGIN:VEVENT
DTSTART;TZID=America/Kentucky/Monticello:20290521T180000
DTEND;TZID=America/Kentucky/Monticello:20290521T200000
DTSTAMP:20260420T034941
CREATED:20260115T172520Z
LAST-MODIFIED:20260225T154755Z
UID:10000836-1874080800-1874088000@naknoxville.org
SUMMARY:Little River Group's New Literature Review Committee Presents: "The Gang Writes a New NA Book"
DESCRIPTION:
URL:https://naknoxville.org/event/little-river-groups-new-literature-review-committee-presents-the-gang-writes-a-new-na-book/2029-05-21/
LOCATION:Little River Group\, 3722 Old Knoxville Highway\, Rockford\, TN\, 37853\, United States
CATEGORIES:KANA Event
ATTACH;FMTTYPE=image/png:https://naknoxville.org/wp-content/uploads/2026/01/New-Literature-Review-Committee-1.png
END:VEVENT
BEGIN:VEVENT
DTSTART;TZID=America/Kentucky/Monticello:20290528T180000
DTEND;TZID=America/Kentucky/Monticello:20290528T200000
DTSTAMP:20260420T034941
CREATED:20260115T172520Z
LAST-MODIFIED:20260225T154755Z
UID:10000837-1874685600-1874692800@naknoxville.org
SUMMARY:Little River Group's New Literature Review Committee Presents: "The Gang Writes a New NA Book"
DESCRIPTION:
URL:https://naknoxville.org/event/little-river-groups-new-literature-review-committee-presents-the-gang-writes-a-new-na-book/2029-05-28/
LOCATION:Little River Group\, 3722 Old Knoxville Highway\, Rockford\, TN\, 37853\, United States
CATEGORIES:KANA Event
ATTACH;FMTTYPE=image/png:https://naknoxville.org/wp-content/uploads/2026/01/New-Literature-Review-Committee-1.png
END:VEVENT
BEGIN:VEVENT
DTSTART;TZID=America/Kentucky/Monticello:20290603T160000
DTEND;TZID=America/Kentucky/Monticello:20290603T170000
DTSTAMP:20260420T034941
CREATED:20260115T172747Z
LAST-MODIFIED:20260115T172747Z
UID:10000963-1875196800-1875200400@naknoxville.org
SUMMARY:Monthly ROR XXX Meeting
DESCRIPTION:
URL:https://naknoxville.org/event/monthly-ror-xxx-meeting/2029-06-03/
LOCATION:The Gateway\, 530 W Fifth Avenue\, Knoxville\, TN\, 37917\, United States
CATEGORIES:Service Committee
ATTACH;FMTTYPE=image/jpeg:https://naknoxville.org/wp-content/uploads/2023/11/default_nalogo.jpg
END:VEVENT
BEGIN:VEVENT
DTSTART;TZID=America/Kentucky/Monticello:20290604T180000
DTEND;TZID=America/Kentucky/Monticello:20290604T200000
DTSTAMP:20260420T034941
CREATED:20260115T172520Z
LAST-MODIFIED:20260225T154755Z
UID:10000838-1875290400-1875297600@naknoxville.org
SUMMARY:Little River Group's New Literature Review Committee Presents: "The Gang Writes a New NA Book"
DESCRIPTION:
URL:https://naknoxville.org/event/little-river-groups-new-literature-review-committee-presents-the-gang-writes-a-new-na-book/2029-06-04/
LOCATION:Little River Group\, 3722 Old Knoxville Highway\, Rockford\, TN\, 37853\, United States
CATEGORIES:KANA Event
ATTACH;FMTTYPE=image/png:https://naknoxville.org/wp-content/uploads/2026/01/New-Literature-Review-Committee-1.png
END:VEVENT
BEGIN:VEVENT
DTSTART;TZID=America/Kentucky/Monticello:20290611T180000
DTEND;TZID=America/Kentucky/Monticello:20290611T200000
DTSTAMP:20260420T034941
CREATED:20260115T172520Z
LAST-MODIFIED:20260225T154755Z
UID:10000839-1875895200-1875902400@naknoxville.org
SUMMARY:Little River Group's New Literature Review Committee Presents: "The Gang Writes a New NA Book"
DESCRIPTION:
URL:https://naknoxville.org/event/little-river-groups-new-literature-review-committee-presents-the-gang-writes-a-new-na-book/2029-06-11/
LOCATION:Little River Group\, 3722 Old Knoxville Highway\, Rockford\, TN\, 37853\, United States
CATEGORIES:KANA Event
ATTACH;FMTTYPE=image/png:https://naknoxville.org/wp-content/uploads/2026/01/New-Literature-Review-Committee-1.png
END:VEVENT
BEGIN:VEVENT
DTSTART;TZID=America/Kentucky/Monticello:20290612T180000
DTEND;TZID=America/Kentucky/Monticello:20290612T190000
DTSTAMP:20260420T034941
CREATED:20260115T172856Z
LAST-MODIFIED:20260115T172856Z
UID:10001023-1875981600-1875985200@naknoxville.org
SUMMARY:Monthly PR Meeting
DESCRIPTION:
URL:https://naknoxville.org/event/monthly-pr-meeting/2029-06-12/
LOCATION:Little River Group\, 3722 Old Knoxville Highway\, Rockford\, TN\, 37853\, United States
CATEGORIES:Service Committee
ATTACH;FMTTYPE=image/jpeg:https://naknoxville.org/wp-content/uploads/2023/11/default_nalogo.jpg
END:VEVENT
BEGIN:VEVENT
DTSTART;TZID=America/Kentucky/Monticello:20290616T090000
DTEND;TZID=America/Kentucky/Monticello:20290616T100000
DTSTAMP:20260420T034941
CREATED:20240120T152001Z
LAST-MODIFIED:20240120T152002Z
UID:10000444-1876294800-1876298400@naknoxville.org
SUMMARY:KANA H&I Monthly Meeting
DESCRIPTION:Come and get involved in Hospitals and Institutions! Any addict welcome to participate. Orientations given\, some positions involve clean time suggestions and different facilities will have strict requirements.
URL:https://naknoxville.org/event/kana-hi-monthly-meeting-2/2029-06-16/
LOCATION:Square Dance Center\, 828 Tulip Avenue\, Knoxville\, TN\, 37921\, United States
CATEGORIES:H&I,KANA Event,Service Committee
ATTACH;FMTTYPE=image/png:https://naknoxville.org/wp-content/uploads/2023/11/cropped-naBlueLogo-e1616205159655.png
END:VEVENT
BEGIN:VEVENT
DTSTART;TZID=America/Kentucky/Monticello:20290616T100000
DTEND;TZID=America/Kentucky/Monticello:20290616T130000
DTSTAMP:20260420T034941
CREATED:20240114T173245Z
LAST-MODIFIED:20240114T183108Z
UID:10000469-1876298400-1876309200@naknoxville.org
SUMMARY:KANA Area Service Committee (ASC) Meeting
DESCRIPTION:Open to any addict – come take part in discussion at the area level between home groups’ Group Service Representatives (GSRs)\, Area Trusted Servants\, and other participants! \n3rd Saturdays at 10am\, 828 Tulip Avenue!
URL:https://naknoxville.org/event/kana-area-service-committee-asc-meeting/2029-06-16/
LOCATION:Square Dance Center\, 828 Tulip Avenue\, Knoxville\, TN\, 37921\, United States
CATEGORIES:KANA Event,Service Committee
ATTACH;FMTTYPE=image/png:https://naknoxville.org/wp-content/uploads/2023/11/cropped-naBlueLogo-e1616205159655.png
END:VEVENT
END:VCALENDAR