BEGIN:VCALENDAR
VERSION:2.0
PRODID:-//NA Knoxville - ECPv6.15.14//NONSGML v1.0//EN
CALSCALE:GREGORIAN
METHOD:PUBLISH
X-WR-CALNAME:NA Knoxville
X-ORIGINAL-URL:https://naknoxville.org
X-WR-CALDESC:Events for NA Knoxville
REFRESH-INTERVAL;VALUE=DURATION:PT1H
X-Robots-Tag:noindex
X-PUBLISHED-TTL:PT1H
BEGIN:VTIMEZONE
TZID:America/Kentucky/Monticello
BEGIN:DAYLIGHT
TZOFFSETFROM:-0500
TZOFFSETTO:-0400
TZNAME:EDT
DTSTART:20280312T070000
END:DAYLIGHT
BEGIN:STANDARD
TZOFFSETFROM:-0400
TZOFFSETTO:-0500
TZNAME:EST
DTSTART:20281105T060000
END:STANDARD
BEGIN:DAYLIGHT
TZOFFSETFROM:-0500
TZOFFSETTO:-0400
TZNAME:EDT
DTSTART:20290311T070000
END:DAYLIGHT
BEGIN:STANDARD
TZOFFSETFROM:-0400
TZOFFSETTO:-0500
TZNAME:EST
DTSTART:20291104T060000
END:STANDARD
BEGIN:DAYLIGHT
TZOFFSETFROM:-0500
TZOFFSETTO:-0400
TZNAME:EDT
DTSTART:20300310T070000
END:DAYLIGHT
BEGIN:STANDARD
TZOFFSETFROM:-0400
TZOFFSETTO:-0500
TZNAME:EST
DTSTART:20301103T060000
END:STANDARD
END:VTIMEZONE
BEGIN:VEVENT
DTSTART;TZID=America/Kentucky/Monticello:20290915T100000
DTEND;TZID=America/Kentucky/Monticello:20290915T130000
DTSTAMP:20260420T153202
CREATED:20240114T173245Z
LAST-MODIFIED:20240114T183108Z
UID:10000472-1884160800-1884171600@naknoxville.org
SUMMARY:KANA Area Service Committee (ASC) Meeting
DESCRIPTION:Open to any addict – come take part in discussion at the area level between home groups’ Group Service Representatives (GSRs)\, Area Trusted Servants\, and other participants! \n3rd Saturdays at 10am\, 828 Tulip Avenue!
URL:https://naknoxville.org/event/kana-area-service-committee-asc-meeting/2029-09-15/
LOCATION:Square Dance Center\, 828 Tulip Avenue\, Knoxville\, TN\, 37921\, United States
CATEGORIES:KANA Event,Service Committee
ATTACH;FMTTYPE=image/png:https://naknoxville.org/wp-content/uploads/2023/11/cropped-naBlueLogo-e1616205159655.png
END:VEVENT
BEGIN:VEVENT
DTSTART;TZID=America/Kentucky/Monticello:20290915T180000
DTEND;TZID=America/Kentucky/Monticello:20290915T210000
DTSTAMP:20260420T153202
CREATED:20250921T162128Z
LAST-MODIFIED:20250921T162128Z
UID:10000624-1884189600-1884200400@naknoxville.org
SUMMARY:Faith Over Fear Presents: Monthly Eat & Speak!
DESCRIPTION:
URL:https://naknoxville.org/event/faith-over-fear-presents-monthly-eat-speak/2029-09-15/
LOCATION:Martin Chapel UMC\, 1746 Ohio Ave\, Knoxville\, TN\, 37921\, United States
CATEGORIES:KANA Event
ATTACH;FMTTYPE=image/png:https://naknoxville.org/wp-content/uploads/2025/09/Faith-Over-Fear-Presents.png
END:VEVENT
BEGIN:VEVENT
DTSTART;TZID=America/Kentucky/Monticello:20290917T180000
DTEND;TZID=America/Kentucky/Monticello:20290917T200000
DTSTAMP:20260420T153202
CREATED:20260115T172520Z
LAST-MODIFIED:20260225T154755Z
UID:10000853-1884362400-1884369600@naknoxville.org
SUMMARY:Little River Group's New Literature Review Committee Presents: "The Gang Writes a New NA Book"
DESCRIPTION:
URL:https://naknoxville.org/event/little-river-groups-new-literature-review-committee-presents-the-gang-writes-a-new-na-book/2029-09-17/
LOCATION:Little River Group\, 3722 Old Knoxville Highway\, Rockford\, TN\, 37853\, United States
CATEGORIES:KANA Event
ATTACH;FMTTYPE=image/png:https://naknoxville.org/wp-content/uploads/2026/01/New-Literature-Review-Committee-1.png
END:VEVENT
BEGIN:VEVENT
DTSTART;TZID=America/Kentucky/Monticello:20290924T180000
DTEND;TZID=America/Kentucky/Monticello:20290924T200000
DTSTAMP:20260420T153202
CREATED:20260115T172520Z
LAST-MODIFIED:20260225T154755Z
UID:10000854-1884967200-1884974400@naknoxville.org
SUMMARY:Little River Group's New Literature Review Committee Presents: "The Gang Writes a New NA Book"
DESCRIPTION:
URL:https://naknoxville.org/event/little-river-groups-new-literature-review-committee-presents-the-gang-writes-a-new-na-book/2029-09-24/
LOCATION:Little River Group\, 3722 Old Knoxville Highway\, Rockford\, TN\, 37853\, United States
CATEGORIES:KANA Event
ATTACH;FMTTYPE=image/png:https://naknoxville.org/wp-content/uploads/2026/01/New-Literature-Review-Committee-1.png
END:VEVENT
BEGIN:VEVENT
DTSTART;TZID=America/Kentucky/Monticello:20291001T180000
DTEND;TZID=America/Kentucky/Monticello:20291001T200000
DTSTAMP:20260420T153202
CREATED:20260115T172520Z
LAST-MODIFIED:20260225T154755Z
UID:10000855-1885572000-1885579200@naknoxville.org
SUMMARY:Little River Group's New Literature Review Committee Presents: "The Gang Writes a New NA Book"
DESCRIPTION:
URL:https://naknoxville.org/event/little-river-groups-new-literature-review-committee-presents-the-gang-writes-a-new-na-book/2029-10-01/
LOCATION:Little River Group\, 3722 Old Knoxville Highway\, Rockford\, TN\, 37853\, United States
CATEGORIES:KANA Event
ATTACH;FMTTYPE=image/png:https://naknoxville.org/wp-content/uploads/2026/01/New-Literature-Review-Committee-1.png
END:VEVENT
BEGIN:VEVENT
DTSTART;TZID=America/Kentucky/Monticello:20291007T160000
DTEND;TZID=America/Kentucky/Monticello:20291007T170000
DTSTAMP:20260420T153202
CREATED:20260115T172747Z
LAST-MODIFIED:20260115T172747Z
UID:10000967-1886083200-1886086800@naknoxville.org
SUMMARY:Monthly ROR XXX Meeting
DESCRIPTION:
URL:https://naknoxville.org/event/monthly-ror-xxx-meeting/2029-10-07/
LOCATION:The Gateway\, 530 W Fifth Avenue\, Knoxville\, TN\, 37917\, United States
CATEGORIES:Service Committee
ATTACH;FMTTYPE=image/jpeg:https://naknoxville.org/wp-content/uploads/2023/11/default_nalogo.jpg
END:VEVENT
BEGIN:VEVENT
DTSTART;TZID=America/Kentucky/Monticello:20291008T180000
DTEND;TZID=America/Kentucky/Monticello:20291008T200000
DTSTAMP:20260420T153202
CREATED:20260115T172520Z
LAST-MODIFIED:20260225T154755Z
UID:10000856-1886176800-1886184000@naknoxville.org
SUMMARY:Little River Group's New Literature Review Committee Presents: "The Gang Writes a New NA Book"
DESCRIPTION:
URL:https://naknoxville.org/event/little-river-groups-new-literature-review-committee-presents-the-gang-writes-a-new-na-book/2029-10-08/
LOCATION:Little River Group\, 3722 Old Knoxville Highway\, Rockford\, TN\, 37853\, United States
CATEGORIES:KANA Event
ATTACH;FMTTYPE=image/png:https://naknoxville.org/wp-content/uploads/2026/01/New-Literature-Review-Committee-1.png
END:VEVENT
BEGIN:VEVENT
DTSTART;TZID=America/Kentucky/Monticello:20291009T180000
DTEND;TZID=America/Kentucky/Monticello:20291009T190000
DTSTAMP:20260420T153202
CREATED:20260115T172856Z
LAST-MODIFIED:20260115T172856Z
UID:10001027-1886263200-1886266800@naknoxville.org
SUMMARY:Monthly PR Meeting
DESCRIPTION:
URL:https://naknoxville.org/event/monthly-pr-meeting/2029-10-09/
LOCATION:Little River Group\, 3722 Old Knoxville Highway\, Rockford\, TN\, 37853\, United States
CATEGORIES:Service Committee
ATTACH;FMTTYPE=image/jpeg:https://naknoxville.org/wp-content/uploads/2023/11/default_nalogo.jpg
END:VEVENT
BEGIN:VEVENT
DTSTART;TZID=America/Kentucky/Monticello:20291015T180000
DTEND;TZID=America/Kentucky/Monticello:20291015T200000
DTSTAMP:20260420T153202
CREATED:20260115T172520Z
LAST-MODIFIED:20260225T154755Z
UID:10000857-1886781600-1886788800@naknoxville.org
SUMMARY:Little River Group's New Literature Review Committee Presents: "The Gang Writes a New NA Book"
DESCRIPTION:
URL:https://naknoxville.org/event/little-river-groups-new-literature-review-committee-presents-the-gang-writes-a-new-na-book/2029-10-15/
LOCATION:Little River Group\, 3722 Old Knoxville Highway\, Rockford\, TN\, 37853\, United States
CATEGORIES:KANA Event
ATTACH;FMTTYPE=image/png:https://naknoxville.org/wp-content/uploads/2026/01/New-Literature-Review-Committee-1.png
END:VEVENT
BEGIN:VEVENT
DTSTART;TZID=America/Kentucky/Monticello:20291020T090000
DTEND;TZID=America/Kentucky/Monticello:20291020T100000
DTSTAMP:20260420T153202
CREATED:20240120T152001Z
LAST-MODIFIED:20240120T152002Z
UID:10000448-1887181200-1887184800@naknoxville.org
SUMMARY:KANA H&I Monthly Meeting
DESCRIPTION:Come and get involved in Hospitals and Institutions! Any addict welcome to participate. Orientations given\, some positions involve clean time suggestions and different facilities will have strict requirements.
URL:https://naknoxville.org/event/kana-hi-monthly-meeting-2/2029-10-20/
LOCATION:Square Dance Center\, 828 Tulip Avenue\, Knoxville\, TN\, 37921\, United States
CATEGORIES:H&I,KANA Event,Service Committee
ATTACH;FMTTYPE=image/png:https://naknoxville.org/wp-content/uploads/2023/11/cropped-naBlueLogo-e1616205159655.png
END:VEVENT
BEGIN:VEVENT
DTSTART;TZID=America/Kentucky/Monticello:20291020T100000
DTEND;TZID=America/Kentucky/Monticello:20291020T130000
DTSTAMP:20260420T153202
CREATED:20240114T173245Z
LAST-MODIFIED:20240114T183108Z
UID:10000473-1887184800-1887195600@naknoxville.org
SUMMARY:KANA Area Service Committee (ASC) Meeting
DESCRIPTION:Open to any addict – come take part in discussion at the area level between home groups’ Group Service Representatives (GSRs)\, Area Trusted Servants\, and other participants! \n3rd Saturdays at 10am\, 828 Tulip Avenue!
URL:https://naknoxville.org/event/kana-area-service-committee-asc-meeting/2029-10-20/
LOCATION:Square Dance Center\, 828 Tulip Avenue\, Knoxville\, TN\, 37921\, United States
CATEGORIES:KANA Event,Service Committee
ATTACH;FMTTYPE=image/png:https://naknoxville.org/wp-content/uploads/2023/11/cropped-naBlueLogo-e1616205159655.png
END:VEVENT
BEGIN:VEVENT
DTSTART;TZID=America/Kentucky/Monticello:20291020T180000
DTEND;TZID=America/Kentucky/Monticello:20291020T210000
DTSTAMP:20260420T153202
CREATED:20250921T162128Z
LAST-MODIFIED:20250921T162128Z
UID:10000625-1887213600-1887224400@naknoxville.org
SUMMARY:Faith Over Fear Presents: Monthly Eat & Speak!
DESCRIPTION:
URL:https://naknoxville.org/event/faith-over-fear-presents-monthly-eat-speak/2029-10-20/
LOCATION:Martin Chapel UMC\, 1746 Ohio Ave\, Knoxville\, TN\, 37921\, United States
CATEGORIES:KANA Event
ATTACH;FMTTYPE=image/png:https://naknoxville.org/wp-content/uploads/2025/09/Faith-Over-Fear-Presents.png
END:VEVENT
BEGIN:VEVENT
DTSTART;TZID=America/Kentucky/Monticello:20291022T180000
DTEND;TZID=America/Kentucky/Monticello:20291022T200000
DTSTAMP:20260420T153202
CREATED:20260115T172520Z
LAST-MODIFIED:20260225T154755Z
UID:10000858-1887386400-1887393600@naknoxville.org
SUMMARY:Little River Group's New Literature Review Committee Presents: "The Gang Writes a New NA Book"
DESCRIPTION:
URL:https://naknoxville.org/event/little-river-groups-new-literature-review-committee-presents-the-gang-writes-a-new-na-book/2029-10-22/
LOCATION:Little River Group\, 3722 Old Knoxville Highway\, Rockford\, TN\, 37853\, United States
CATEGORIES:KANA Event
ATTACH;FMTTYPE=image/png:https://naknoxville.org/wp-content/uploads/2026/01/New-Literature-Review-Committee-1.png
END:VEVENT
BEGIN:VEVENT
DTSTART;TZID=America/Kentucky/Monticello:20291029T180000
DTEND;TZID=America/Kentucky/Monticello:20291029T200000
DTSTAMP:20260420T153202
CREATED:20260115T172520Z
LAST-MODIFIED:20260225T154755Z
UID:10000859-1887991200-1887998400@naknoxville.org
SUMMARY:Little River Group's New Literature Review Committee Presents: "The Gang Writes a New NA Book"
DESCRIPTION:
URL:https://naknoxville.org/event/little-river-groups-new-literature-review-committee-presents-the-gang-writes-a-new-na-book/2029-10-29/
LOCATION:Little River Group\, 3722 Old Knoxville Highway\, Rockford\, TN\, 37853\, United States
CATEGORIES:KANA Event
ATTACH;FMTTYPE=image/png:https://naknoxville.org/wp-content/uploads/2026/01/New-Literature-Review-Committee-1.png
END:VEVENT
BEGIN:VEVENT
DTSTART;TZID=America/Kentucky/Monticello:20291104T160000
DTEND;TZID=America/Kentucky/Monticello:20291104T170000
DTSTAMP:20260420T153202
CREATED:20260115T172747Z
LAST-MODIFIED:20260115T172747Z
UID:10000968-1888502400-1888506000@naknoxville.org
SUMMARY:Monthly ROR XXX Meeting
DESCRIPTION:
URL:https://naknoxville.org/event/monthly-ror-xxx-meeting/2029-11-04/
LOCATION:The Gateway\, 530 W Fifth Avenue\, Knoxville\, TN\, 37917\, United States
CATEGORIES:Service Committee
ATTACH;FMTTYPE=image/jpeg:https://naknoxville.org/wp-content/uploads/2023/11/default_nalogo.jpg
END:VEVENT
BEGIN:VEVENT
DTSTART;TZID=America/Kentucky/Monticello:20291105T180000
DTEND;TZID=America/Kentucky/Monticello:20291105T200000
DTSTAMP:20260420T153202
CREATED:20260115T172520Z
LAST-MODIFIED:20260225T154755Z
UID:10000860-1888596000-1888603200@naknoxville.org
SUMMARY:Little River Group's New Literature Review Committee Presents: "The Gang Writes a New NA Book"
DESCRIPTION:
URL:https://naknoxville.org/event/little-river-groups-new-literature-review-committee-presents-the-gang-writes-a-new-na-book/2029-11-05/
LOCATION:Little River Group\, 3722 Old Knoxville Highway\, Rockford\, TN\, 37853\, United States
CATEGORIES:KANA Event
ATTACH;FMTTYPE=image/png:https://naknoxville.org/wp-content/uploads/2026/01/New-Literature-Review-Committee-1.png
END:VEVENT
BEGIN:VEVENT
DTSTART;TZID=America/Kentucky/Monticello:20291112T180000
DTEND;TZID=America/Kentucky/Monticello:20291112T200000
DTSTAMP:20260420T153202
CREATED:20260115T172520Z
LAST-MODIFIED:20260225T154755Z
UID:10000861-1889200800-1889208000@naknoxville.org
SUMMARY:Little River Group's New Literature Review Committee Presents: "The Gang Writes a New NA Book"
DESCRIPTION:
URL:https://naknoxville.org/event/little-river-groups-new-literature-review-committee-presents-the-gang-writes-a-new-na-book/2029-11-12/
LOCATION:Little River Group\, 3722 Old Knoxville Highway\, Rockford\, TN\, 37853\, United States
CATEGORIES:KANA Event
ATTACH;FMTTYPE=image/png:https://naknoxville.org/wp-content/uploads/2026/01/New-Literature-Review-Committee-1.png
END:VEVENT
BEGIN:VEVENT
DTSTART;TZID=America/Kentucky/Monticello:20291113T180000
DTEND;TZID=America/Kentucky/Monticello:20291113T190000
DTSTAMP:20260420T153202
CREATED:20260115T172856Z
LAST-MODIFIED:20260115T172856Z
UID:10001028-1889287200-1889290800@naknoxville.org
SUMMARY:Monthly PR Meeting
DESCRIPTION:
URL:https://naknoxville.org/event/monthly-pr-meeting/2029-11-13/
LOCATION:Little River Group\, 3722 Old Knoxville Highway\, Rockford\, TN\, 37853\, United States
CATEGORIES:Service Committee
ATTACH;FMTTYPE=image/jpeg:https://naknoxville.org/wp-content/uploads/2023/11/default_nalogo.jpg
END:VEVENT
BEGIN:VEVENT
DTSTART;TZID=America/Kentucky/Monticello:20291117T090000
DTEND;TZID=America/Kentucky/Monticello:20291117T100000
DTSTAMP:20260420T153202
CREATED:20240120T152001Z
LAST-MODIFIED:20240120T152002Z
UID:10000449-1889600400-1889604000@naknoxville.org
SUMMARY:KANA H&I Monthly Meeting
DESCRIPTION:Come and get involved in Hospitals and Institutions! Any addict welcome to participate. Orientations given\, some positions involve clean time suggestions and different facilities will have strict requirements.
URL:https://naknoxville.org/event/kana-hi-monthly-meeting-2/2029-11-17/
LOCATION:Square Dance Center\, 828 Tulip Avenue\, Knoxville\, TN\, 37921\, United States
CATEGORIES:H&I,KANA Event,Service Committee
ATTACH;FMTTYPE=image/png:https://naknoxville.org/wp-content/uploads/2023/11/cropped-naBlueLogo-e1616205159655.png
END:VEVENT
BEGIN:VEVENT
DTSTART;TZID=America/Kentucky/Monticello:20291117T100000
DTEND;TZID=America/Kentucky/Monticello:20291117T130000
DTSTAMP:20260420T153202
CREATED:20240114T173245Z
LAST-MODIFIED:20240114T183108Z
UID:10000474-1889604000-1889614800@naknoxville.org
SUMMARY:KANA Area Service Committee (ASC) Meeting
DESCRIPTION:Open to any addict – come take part in discussion at the area level between home groups’ Group Service Representatives (GSRs)\, Area Trusted Servants\, and other participants! \n3rd Saturdays at 10am\, 828 Tulip Avenue!
URL:https://naknoxville.org/event/kana-area-service-committee-asc-meeting/2029-11-17/
LOCATION:Square Dance Center\, 828 Tulip Avenue\, Knoxville\, TN\, 37921\, United States
CATEGORIES:KANA Event,Service Committee
ATTACH;FMTTYPE=image/png:https://naknoxville.org/wp-content/uploads/2023/11/cropped-naBlueLogo-e1616205159655.png
END:VEVENT
BEGIN:VEVENT
DTSTART;TZID=America/Kentucky/Monticello:20291117T180000
DTEND;TZID=America/Kentucky/Monticello:20291117T210000
DTSTAMP:20260420T153202
CREATED:20250921T162128Z
LAST-MODIFIED:20250921T162128Z
UID:10000626-1889632800-1889643600@naknoxville.org
SUMMARY:Faith Over Fear Presents: Monthly Eat & Speak!
DESCRIPTION:
URL:https://naknoxville.org/event/faith-over-fear-presents-monthly-eat-speak/2029-11-17/
LOCATION:Martin Chapel UMC\, 1746 Ohio Ave\, Knoxville\, TN\, 37921\, United States
CATEGORIES:KANA Event
ATTACH;FMTTYPE=image/png:https://naknoxville.org/wp-content/uploads/2025/09/Faith-Over-Fear-Presents.png
END:VEVENT
BEGIN:VEVENT
DTSTART;TZID=America/Kentucky/Monticello:20291119T180000
DTEND;TZID=America/Kentucky/Monticello:20291119T200000
DTSTAMP:20260420T153202
CREATED:20260115T172520Z
LAST-MODIFIED:20260225T154755Z
UID:10000862-1889805600-1889812800@naknoxville.org
SUMMARY:Little River Group's New Literature Review Committee Presents: "The Gang Writes a New NA Book"
DESCRIPTION:
URL:https://naknoxville.org/event/little-river-groups-new-literature-review-committee-presents-the-gang-writes-a-new-na-book/2029-11-19/
LOCATION:Little River Group\, 3722 Old Knoxville Highway\, Rockford\, TN\, 37853\, United States
CATEGORIES:KANA Event
ATTACH;FMTTYPE=image/png:https://naknoxville.org/wp-content/uploads/2026/01/New-Literature-Review-Committee-1.png
END:VEVENT
BEGIN:VEVENT
DTSTART;TZID=America/Kentucky/Monticello:20291126T180000
DTEND;TZID=America/Kentucky/Monticello:20291126T200000
DTSTAMP:20260420T153202
CREATED:20260115T172520Z
LAST-MODIFIED:20260225T154755Z
UID:10000863-1890410400-1890417600@naknoxville.org
SUMMARY:Little River Group's New Literature Review Committee Presents: "The Gang Writes a New NA Book"
DESCRIPTION:
URL:https://naknoxville.org/event/little-river-groups-new-literature-review-committee-presents-the-gang-writes-a-new-na-book/2029-11-26/
LOCATION:Little River Group\, 3722 Old Knoxville Highway\, Rockford\, TN\, 37853\, United States
CATEGORIES:KANA Event
ATTACH;FMTTYPE=image/png:https://naknoxville.org/wp-content/uploads/2026/01/New-Literature-Review-Committee-1.png
END:VEVENT
BEGIN:VEVENT
DTSTART;TZID=America/Kentucky/Monticello:20291202T160000
DTEND;TZID=America/Kentucky/Monticello:20291202T170000
DTSTAMP:20260420T153202
CREATED:20260115T172747Z
LAST-MODIFIED:20260115T172747Z
UID:10000969-1890921600-1890925200@naknoxville.org
SUMMARY:Monthly ROR XXX Meeting
DESCRIPTION:
URL:https://naknoxville.org/event/monthly-ror-xxx-meeting/2029-12-02/
LOCATION:The Gateway\, 530 W Fifth Avenue\, Knoxville\, TN\, 37917\, United States
CATEGORIES:Service Committee
ATTACH;FMTTYPE=image/jpeg:https://naknoxville.org/wp-content/uploads/2023/11/default_nalogo.jpg
END:VEVENT
BEGIN:VEVENT
DTSTART;TZID=America/Kentucky/Monticello:20291203T180000
DTEND;TZID=America/Kentucky/Monticello:20291203T200000
DTSTAMP:20260420T153202
CREATED:20260115T172520Z
LAST-MODIFIED:20260225T154755Z
UID:10000864-1891015200-1891022400@naknoxville.org
SUMMARY:Little River Group's New Literature Review Committee Presents: "The Gang Writes a New NA Book"
DESCRIPTION:
URL:https://naknoxville.org/event/little-river-groups-new-literature-review-committee-presents-the-gang-writes-a-new-na-book/2029-12-03/
LOCATION:Little River Group\, 3722 Old Knoxville Highway\, Rockford\, TN\, 37853\, United States
CATEGORIES:KANA Event
ATTACH;FMTTYPE=image/png:https://naknoxville.org/wp-content/uploads/2026/01/New-Literature-Review-Committee-1.png
END:VEVENT
BEGIN:VEVENT
DTSTART;TZID=America/Kentucky/Monticello:20291210T180000
DTEND;TZID=America/Kentucky/Monticello:20291210T200000
DTSTAMP:20260420T153202
CREATED:20260115T172520Z
LAST-MODIFIED:20260225T154755Z
UID:10000865-1891620000-1891627200@naknoxville.org
SUMMARY:Little River Group's New Literature Review Committee Presents: "The Gang Writes a New NA Book"
DESCRIPTION:
URL:https://naknoxville.org/event/little-river-groups-new-literature-review-committee-presents-the-gang-writes-a-new-na-book/2029-12-10/
LOCATION:Little River Group\, 3722 Old Knoxville Highway\, Rockford\, TN\, 37853\, United States
CATEGORIES:KANA Event
ATTACH;FMTTYPE=image/png:https://naknoxville.org/wp-content/uploads/2026/01/New-Literature-Review-Committee-1.png
END:VEVENT
BEGIN:VEVENT
DTSTART;TZID=America/Kentucky/Monticello:20291211T180000
DTEND;TZID=America/Kentucky/Monticello:20291211T190000
DTSTAMP:20260420T153202
CREATED:20260115T172856Z
LAST-MODIFIED:20260115T172856Z
UID:10001029-1891706400-1891710000@naknoxville.org
SUMMARY:Monthly PR Meeting
DESCRIPTION:
URL:https://naknoxville.org/event/monthly-pr-meeting/2029-12-11/
LOCATION:Little River Group\, 3722 Old Knoxville Highway\, Rockford\, TN\, 37853\, United States
CATEGORIES:Service Committee
ATTACH;FMTTYPE=image/jpeg:https://naknoxville.org/wp-content/uploads/2023/11/default_nalogo.jpg
END:VEVENT
BEGIN:VEVENT
DTSTART;TZID=America/Kentucky/Monticello:20291215T090000
DTEND;TZID=America/Kentucky/Monticello:20291215T100000
DTSTAMP:20260420T153202
CREATED:20240120T152001Z
LAST-MODIFIED:20240120T152002Z
UID:10000450-1892019600-1892023200@naknoxville.org
SUMMARY:KANA H&I Monthly Meeting
DESCRIPTION:Come and get involved in Hospitals and Institutions! Any addict welcome to participate. Orientations given\, some positions involve clean time suggestions and different facilities will have strict requirements.
URL:https://naknoxville.org/event/kana-hi-monthly-meeting-2/2029-12-15/
LOCATION:Square Dance Center\, 828 Tulip Avenue\, Knoxville\, TN\, 37921\, United States
CATEGORIES:H&I,KANA Event,Service Committee
ATTACH;FMTTYPE=image/png:https://naknoxville.org/wp-content/uploads/2023/11/cropped-naBlueLogo-e1616205159655.png
END:VEVENT
BEGIN:VEVENT
DTSTART;TZID=America/Kentucky/Monticello:20291215T100000
DTEND;TZID=America/Kentucky/Monticello:20291215T130000
DTSTAMP:20260420T153202
CREATED:20240114T173245Z
LAST-MODIFIED:20240114T183108Z
UID:10000475-1892023200-1892034000@naknoxville.org
SUMMARY:KANA Area Service Committee (ASC) Meeting
DESCRIPTION:Open to any addict – come take part in discussion at the area level between home groups’ Group Service Representatives (GSRs)\, Area Trusted Servants\, and other participants! \n3rd Saturdays at 10am\, 828 Tulip Avenue!
URL:https://naknoxville.org/event/kana-area-service-committee-asc-meeting/2029-12-15/
LOCATION:Square Dance Center\, 828 Tulip Avenue\, Knoxville\, TN\, 37921\, United States
CATEGORIES:KANA Event,Service Committee
ATTACH;FMTTYPE=image/png:https://naknoxville.org/wp-content/uploads/2023/11/cropped-naBlueLogo-e1616205159655.png
END:VEVENT
BEGIN:VEVENT
DTSTART;TZID=America/Kentucky/Monticello:20291215T180000
DTEND;TZID=America/Kentucky/Monticello:20291215T210000
DTSTAMP:20260420T153202
CREATED:20250921T162128Z
LAST-MODIFIED:20250921T162128Z
UID:10000627-1892052000-1892062800@naknoxville.org
SUMMARY:Faith Over Fear Presents: Monthly Eat & Speak!
DESCRIPTION:
URL:https://naknoxville.org/event/faith-over-fear-presents-monthly-eat-speak/2029-12-15/
LOCATION:Martin Chapel UMC\, 1746 Ohio Ave\, Knoxville\, TN\, 37921\, United States
CATEGORIES:KANA Event
ATTACH;FMTTYPE=image/png:https://naknoxville.org/wp-content/uploads/2025/09/Faith-Over-Fear-Presents.png
END:VEVENT
END:VCALENDAR