BEGIN:VCALENDAR
VERSION:2.0
PRODID:-//NA Knoxville - ECPv6.15.14//NONSGML v1.0//EN
CALSCALE:GREGORIAN
METHOD:PUBLISH
X-ORIGINAL-URL:https://naknoxville.org
X-WR-CALDESC:Events for NA Knoxville
REFRESH-INTERVAL;VALUE=DURATION:PT1H
X-Robots-Tag:noindex
X-PUBLISHED-TTL:PT1H
BEGIN:VTIMEZONE
TZID:America/Kentucky/Monticello
BEGIN:DAYLIGHT
TZOFFSETFROM:-0500
TZOFFSETTO:-0400
TZNAME:EDT
DTSTART:20290311T070000
END:DAYLIGHT
BEGIN:STANDARD
TZOFFSETFROM:-0400
TZOFFSETTO:-0500
TZNAME:EST
DTSTART:20291104T060000
END:STANDARD
BEGIN:DAYLIGHT
TZOFFSETFROM:-0500
TZOFFSETTO:-0400
TZNAME:EDT
DTSTART:20300310T070000
END:DAYLIGHT
BEGIN:STANDARD
TZOFFSETFROM:-0400
TZOFFSETTO:-0500
TZNAME:EST
DTSTART:20301103T060000
END:STANDARD
BEGIN:DAYLIGHT
TZOFFSETFROM:-0500
TZOFFSETTO:-0400
TZNAME:EDT
DTSTART:20310309T070000
END:DAYLIGHT
BEGIN:STANDARD
TZOFFSETFROM:-0400
TZOFFSETTO:-0500
TZNAME:EST
DTSTART:20311102T060000
END:STANDARD
END:VTIMEZONE
BEGIN:VEVENT
DTSTART;TZID=America/Kentucky/Monticello:20300114T180000
DTEND;TZID=America/Kentucky/Monticello:20300114T200000
DTSTAMP:20260420T171141
CREATED:20260115T172520Z
LAST-MODIFIED:20260225T154755Z
UID:10000870-1894644000-1894651200@naknoxville.org
SUMMARY:Little River Group's New Literature Review Committee Presents: "The Gang Writes a New NA Book"
DESCRIPTION:
URL:https://naknoxville.org/event/little-river-groups-new-literature-review-committee-presents-the-gang-writes-a-new-na-book/2030-01-14/
LOCATION:Little River Group\, 3722 Old Knoxville Highway\, Rockford\, TN\, 37853\, United States
CATEGORIES:KANA Event
ATTACH;FMTTYPE=image/png:https://naknoxville.org/wp-content/uploads/2026/01/New-Literature-Review-Committee-1.png
END:VEVENT
BEGIN:VEVENT
DTSTART;TZID=America/Kentucky/Monticello:20300119T090000
DTEND;TZID=America/Kentucky/Monticello:20300119T100000
DTSTAMP:20260420T171141
CREATED:20240120T152001Z
LAST-MODIFIED:20240120T152002Z
UID:10000451-1895043600-1895047200@naknoxville.org
SUMMARY:KANA H&I Monthly Meeting
DESCRIPTION:Come and get involved in Hospitals and Institutions! Any addict welcome to participate. Orientations given\, some positions involve clean time suggestions and different facilities will have strict requirements.
URL:https://naknoxville.org/event/kana-hi-monthly-meeting-2/2030-01-19/
LOCATION:Square Dance Center\, 828 Tulip Avenue\, Knoxville\, TN\, 37921\, United States
CATEGORIES:H&I,KANA Event,Service Committee
ATTACH;FMTTYPE=image/png:https://naknoxville.org/wp-content/uploads/2023/11/cropped-naBlueLogo-e1616205159655.png
END:VEVENT
BEGIN:VEVENT
DTSTART;TZID=America/Kentucky/Monticello:20300119T100000
DTEND;TZID=America/Kentucky/Monticello:20300119T130000
DTSTAMP:20260420T171141
CREATED:20240114T173245Z
LAST-MODIFIED:20240114T183108Z
UID:10000476-1895047200-1895058000@naknoxville.org
SUMMARY:KANA Area Service Committee (ASC) Meeting
DESCRIPTION:Open to any addict – come take part in discussion at the area level between home groups’ Group Service Representatives (GSRs)\, Area Trusted Servants\, and other participants! \n3rd Saturdays at 10am\, 828 Tulip Avenue!
URL:https://naknoxville.org/event/kana-area-service-committee-asc-meeting/2030-01-19/
LOCATION:Square Dance Center\, 828 Tulip Avenue\, Knoxville\, TN\, 37921\, United States
CATEGORIES:KANA Event,Service Committee
ATTACH;FMTTYPE=image/png:https://naknoxville.org/wp-content/uploads/2023/11/cropped-naBlueLogo-e1616205159655.png
END:VEVENT
BEGIN:VEVENT
DTSTART;TZID=America/Kentucky/Monticello:20300119T180000
DTEND;TZID=America/Kentucky/Monticello:20300119T210000
DTSTAMP:20260420T171141
CREATED:20250921T162128Z
LAST-MODIFIED:20250921T162128Z
UID:10000628-1895076000-1895086800@naknoxville.org
SUMMARY:Faith Over Fear Presents: Monthly Eat & Speak!
DESCRIPTION:
URL:https://naknoxville.org/event/faith-over-fear-presents-monthly-eat-speak/2030-01-19/
LOCATION:Martin Chapel UMC\, 1746 Ohio Ave\, Knoxville\, TN\, 37921\, United States
CATEGORIES:KANA Event
ATTACH;FMTTYPE=image/png:https://naknoxville.org/wp-content/uploads/2025/09/Faith-Over-Fear-Presents.png
END:VEVENT
BEGIN:VEVENT
DTSTART;TZID=America/Kentucky/Monticello:20300121T180000
DTEND;TZID=America/Kentucky/Monticello:20300121T200000
DTSTAMP:20260420T171141
CREATED:20260115T172520Z
LAST-MODIFIED:20260225T154755Z
UID:10000871-1895248800-1895256000@naknoxville.org
SUMMARY:Little River Group's New Literature Review Committee Presents: "The Gang Writes a New NA Book"
DESCRIPTION:
URL:https://naknoxville.org/event/little-river-groups-new-literature-review-committee-presents-the-gang-writes-a-new-na-book/2030-01-21/
LOCATION:Little River Group\, 3722 Old Knoxville Highway\, Rockford\, TN\, 37853\, United States
CATEGORIES:KANA Event
ATTACH;FMTTYPE=image/png:https://naknoxville.org/wp-content/uploads/2026/01/New-Literature-Review-Committee-1.png
END:VEVENT
BEGIN:VEVENT
DTSTART;TZID=America/Kentucky/Monticello:20300128T180000
DTEND;TZID=America/Kentucky/Monticello:20300128T200000
DTSTAMP:20260420T171141
CREATED:20260115T172520Z
LAST-MODIFIED:20260225T154755Z
UID:10000872-1895853600-1895860800@naknoxville.org
SUMMARY:Little River Group's New Literature Review Committee Presents: "The Gang Writes a New NA Book"
DESCRIPTION:
URL:https://naknoxville.org/event/little-river-groups-new-literature-review-committee-presents-the-gang-writes-a-new-na-book/2030-01-28/
LOCATION:Little River Group\, 3722 Old Knoxville Highway\, Rockford\, TN\, 37853\, United States
CATEGORIES:KANA Event
ATTACH;FMTTYPE=image/png:https://naknoxville.org/wp-content/uploads/2026/01/New-Literature-Review-Committee-1.png
END:VEVENT
BEGIN:VEVENT
DTSTART;TZID=America/Kentucky/Monticello:20300203T160000
DTEND;TZID=America/Kentucky/Monticello:20300203T170000
DTSTAMP:20260420T171141
CREATED:20260115T172747Z
LAST-MODIFIED:20260115T172747Z
UID:10000971-1896364800-1896368400@naknoxville.org
SUMMARY:Monthly ROR XXX Meeting
DESCRIPTION:
URL:https://naknoxville.org/event/monthly-ror-xxx-meeting/2030-02-03/
LOCATION:The Gateway\, 530 W Fifth Avenue\, Knoxville\, TN\, 37917\, United States
CATEGORIES:Service Committee
ATTACH;FMTTYPE=image/jpeg:https://naknoxville.org/wp-content/uploads/2023/11/default_nalogo.jpg
END:VEVENT
BEGIN:VEVENT
DTSTART;TZID=America/Kentucky/Monticello:20300204T180000
DTEND;TZID=America/Kentucky/Monticello:20300204T200000
DTSTAMP:20260420T171141
CREATED:20260115T172520Z
LAST-MODIFIED:20260225T154755Z
UID:10000873-1896458400-1896465600@naknoxville.org
SUMMARY:Little River Group's New Literature Review Committee Presents: "The Gang Writes a New NA Book"
DESCRIPTION:
URL:https://naknoxville.org/event/little-river-groups-new-literature-review-committee-presents-the-gang-writes-a-new-na-book/2030-02-04/
LOCATION:Little River Group\, 3722 Old Knoxville Highway\, Rockford\, TN\, 37853\, United States
CATEGORIES:KANA Event
ATTACH;FMTTYPE=image/png:https://naknoxville.org/wp-content/uploads/2026/01/New-Literature-Review-Committee-1.png
END:VEVENT
BEGIN:VEVENT
DTSTART;TZID=America/Kentucky/Monticello:20300211T180000
DTEND;TZID=America/Kentucky/Monticello:20300211T200000
DTSTAMP:20260420T171141
CREATED:20260115T172520Z
LAST-MODIFIED:20260225T154755Z
UID:10000874-1897063200-1897070400@naknoxville.org
SUMMARY:Little River Group's New Literature Review Committee Presents: "The Gang Writes a New NA Book"
DESCRIPTION:
URL:https://naknoxville.org/event/little-river-groups-new-literature-review-committee-presents-the-gang-writes-a-new-na-book/2030-02-11/
LOCATION:Little River Group\, 3722 Old Knoxville Highway\, Rockford\, TN\, 37853\, United States
CATEGORIES:KANA Event
ATTACH;FMTTYPE=image/png:https://naknoxville.org/wp-content/uploads/2026/01/New-Literature-Review-Committee-1.png
END:VEVENT
BEGIN:VEVENT
DTSTART;TZID=America/Kentucky/Monticello:20300212T180000
DTEND;TZID=America/Kentucky/Monticello:20300212T190000
DTSTAMP:20260420T171141
CREATED:20260115T172856Z
LAST-MODIFIED:20260115T172856Z
UID:10001031-1897149600-1897153200@naknoxville.org
SUMMARY:Monthly PR Meeting
DESCRIPTION:
URL:https://naknoxville.org/event/monthly-pr-meeting/2030-02-12/
LOCATION:Little River Group\, 3722 Old Knoxville Highway\, Rockford\, TN\, 37853\, United States
CATEGORIES:Service Committee
ATTACH;FMTTYPE=image/jpeg:https://naknoxville.org/wp-content/uploads/2023/11/default_nalogo.jpg
END:VEVENT
BEGIN:VEVENT
DTSTART;TZID=America/Kentucky/Monticello:20300216T090000
DTEND;TZID=America/Kentucky/Monticello:20300216T100000
DTSTAMP:20260420T171141
CREATED:20240120T152001Z
LAST-MODIFIED:20240120T152002Z
UID:10000499-1897462800-1897466400@naknoxville.org
SUMMARY:KANA H&I Monthly Meeting
DESCRIPTION:Come and get involved in Hospitals and Institutions! Any addict welcome to participate. Orientations given\, some positions involve clean time suggestions and different facilities will have strict requirements.
URL:https://naknoxville.org/event/kana-hi-monthly-meeting-2/2030-02-16/
LOCATION:Square Dance Center\, 828 Tulip Avenue\, Knoxville\, TN\, 37921\, United States
CATEGORIES:H&I,KANA Event,Service Committee
ATTACH;FMTTYPE=image/png:https://naknoxville.org/wp-content/uploads/2023/11/cropped-naBlueLogo-e1616205159655.png
END:VEVENT
BEGIN:VEVENT
DTSTART;TZID=America/Kentucky/Monticello:20300216T100000
DTEND;TZID=America/Kentucky/Monticello:20300216T130000
DTSTAMP:20260420T171141
CREATED:20240114T173245Z
LAST-MODIFIED:20240114T183108Z
UID:10000500-1897466400-1897477200@naknoxville.org
SUMMARY:KANA Area Service Committee (ASC) Meeting
DESCRIPTION:Open to any addict – come take part in discussion at the area level between home groups’ Group Service Representatives (GSRs)\, Area Trusted Servants\, and other participants! \n3rd Saturdays at 10am\, 828 Tulip Avenue!
URL:https://naknoxville.org/event/kana-area-service-committee-asc-meeting/2030-02-16/
LOCATION:Square Dance Center\, 828 Tulip Avenue\, Knoxville\, TN\, 37921\, United States
CATEGORIES:KANA Event,Service Committee
ATTACH;FMTTYPE=image/png:https://naknoxville.org/wp-content/uploads/2023/11/cropped-naBlueLogo-e1616205159655.png
END:VEVENT
BEGIN:VEVENT
DTSTART;TZID=America/Kentucky/Monticello:20300216T180000
DTEND;TZID=America/Kentucky/Monticello:20300216T210000
DTSTAMP:20260420T171141
CREATED:20250921T162128Z
LAST-MODIFIED:20250921T162128Z
UID:10000629-1897495200-1897506000@naknoxville.org
SUMMARY:Faith Over Fear Presents: Monthly Eat & Speak!
DESCRIPTION:
URL:https://naknoxville.org/event/faith-over-fear-presents-monthly-eat-speak/2030-02-16/
LOCATION:Martin Chapel UMC\, 1746 Ohio Ave\, Knoxville\, TN\, 37921\, United States
CATEGORIES:KANA Event
ATTACH;FMTTYPE=image/png:https://naknoxville.org/wp-content/uploads/2025/09/Faith-Over-Fear-Presents.png
END:VEVENT
BEGIN:VEVENT
DTSTART;TZID=America/Kentucky/Monticello:20300218T180000
DTEND;TZID=America/Kentucky/Monticello:20300218T200000
DTSTAMP:20260420T171141
CREATED:20260115T172520Z
LAST-MODIFIED:20260225T154755Z
UID:10000875-1897668000-1897675200@naknoxville.org
SUMMARY:Little River Group's New Literature Review Committee Presents: "The Gang Writes a New NA Book"
DESCRIPTION:
URL:https://naknoxville.org/event/little-river-groups-new-literature-review-committee-presents-the-gang-writes-a-new-na-book/2030-02-18/
LOCATION:Little River Group\, 3722 Old Knoxville Highway\, Rockford\, TN\, 37853\, United States
CATEGORIES:KANA Event
ATTACH;FMTTYPE=image/png:https://naknoxville.org/wp-content/uploads/2026/01/New-Literature-Review-Committee-1.png
END:VEVENT
BEGIN:VEVENT
DTSTART;TZID=America/Kentucky/Monticello:20300225T180000
DTEND;TZID=America/Kentucky/Monticello:20300225T200000
DTSTAMP:20260420T171141
CREATED:20260115T172520Z
LAST-MODIFIED:20260225T154755Z
UID:10000876-1898272800-1898280000@naknoxville.org
SUMMARY:Little River Group's New Literature Review Committee Presents: "The Gang Writes a New NA Book"
DESCRIPTION:
URL:https://naknoxville.org/event/little-river-groups-new-literature-review-committee-presents-the-gang-writes-a-new-na-book/2030-02-25/
LOCATION:Little River Group\, 3722 Old Knoxville Highway\, Rockford\, TN\, 37853\, United States
CATEGORIES:KANA Event
ATTACH;FMTTYPE=image/png:https://naknoxville.org/wp-content/uploads/2026/01/New-Literature-Review-Committee-1.png
END:VEVENT
BEGIN:VEVENT
DTSTART;TZID=America/Kentucky/Monticello:20300303T160000
DTEND;TZID=America/Kentucky/Monticello:20300303T170000
DTSTAMP:20260420T171141
CREATED:20260115T172747Z
LAST-MODIFIED:20260115T172747Z
UID:10000972-1898784000-1898787600@naknoxville.org
SUMMARY:Monthly ROR XXX Meeting
DESCRIPTION:
URL:https://naknoxville.org/event/monthly-ror-xxx-meeting/2030-03-03/
LOCATION:The Gateway\, 530 W Fifth Avenue\, Knoxville\, TN\, 37917\, United States
CATEGORIES:Service Committee
ATTACH;FMTTYPE=image/jpeg:https://naknoxville.org/wp-content/uploads/2023/11/default_nalogo.jpg
END:VEVENT
BEGIN:VEVENT
DTSTART;TZID=America/Kentucky/Monticello:20300304T180000
DTEND;TZID=America/Kentucky/Monticello:20300304T200000
DTSTAMP:20260420T171141
CREATED:20260115T172520Z
LAST-MODIFIED:20260225T154755Z
UID:10000877-1898877600-1898884800@naknoxville.org
SUMMARY:Little River Group's New Literature Review Committee Presents: "The Gang Writes a New NA Book"
DESCRIPTION:
URL:https://naknoxville.org/event/little-river-groups-new-literature-review-committee-presents-the-gang-writes-a-new-na-book/2030-03-04/
LOCATION:Little River Group\, 3722 Old Knoxville Highway\, Rockford\, TN\, 37853\, United States
CATEGORIES:KANA Event
ATTACH;FMTTYPE=image/png:https://naknoxville.org/wp-content/uploads/2026/01/New-Literature-Review-Committee-1.png
END:VEVENT
BEGIN:VEVENT
DTSTART;TZID=America/Kentucky/Monticello:20300311T180000
DTEND;TZID=America/Kentucky/Monticello:20300311T200000
DTSTAMP:20260420T171141
CREATED:20260115T172520Z
LAST-MODIFIED:20260225T154755Z
UID:10000878-1899482400-1899489600@naknoxville.org
SUMMARY:Little River Group's New Literature Review Committee Presents: "The Gang Writes a New NA Book"
DESCRIPTION:
URL:https://naknoxville.org/event/little-river-groups-new-literature-review-committee-presents-the-gang-writes-a-new-na-book/2030-03-11/
LOCATION:Little River Group\, 3722 Old Knoxville Highway\, Rockford\, TN\, 37853\, United States
CATEGORIES:KANA Event
ATTACH;FMTTYPE=image/png:https://naknoxville.org/wp-content/uploads/2026/01/New-Literature-Review-Committee-1.png
END:VEVENT
BEGIN:VEVENT
DTSTART;TZID=America/Kentucky/Monticello:20300312T180000
DTEND;TZID=America/Kentucky/Monticello:20300312T190000
DTSTAMP:20260420T171141
CREATED:20260115T172856Z
LAST-MODIFIED:20260115T172856Z
UID:10001032-1899568800-1899572400@naknoxville.org
SUMMARY:Monthly PR Meeting
DESCRIPTION:
URL:https://naknoxville.org/event/monthly-pr-meeting/2030-03-12/
LOCATION:Little River Group\, 3722 Old Knoxville Highway\, Rockford\, TN\, 37853\, United States
CATEGORIES:Service Committee
ATTACH;FMTTYPE=image/jpeg:https://naknoxville.org/wp-content/uploads/2023/11/default_nalogo.jpg
END:VEVENT
BEGIN:VEVENT
DTSTART;TZID=America/Kentucky/Monticello:20300316T090000
DTEND;TZID=America/Kentucky/Monticello:20300316T100000
DTSTAMP:20260420T171141
CREATED:20240120T152001Z
LAST-MODIFIED:20240120T152002Z
UID:10000504-1899882000-1899885600@naknoxville.org
SUMMARY:KANA H&I Monthly Meeting
DESCRIPTION:Come and get involved in Hospitals and Institutions! Any addict welcome to participate. Orientations given\, some positions involve clean time suggestions and different facilities will have strict requirements.
URL:https://naknoxville.org/event/kana-hi-monthly-meeting-2/2030-03-16/
LOCATION:Square Dance Center\, 828 Tulip Avenue\, Knoxville\, TN\, 37921\, United States
CATEGORIES:H&I,KANA Event,Service Committee
ATTACH;FMTTYPE=image/png:https://naknoxville.org/wp-content/uploads/2023/11/cropped-naBlueLogo-e1616205159655.png
END:VEVENT
BEGIN:VEVENT
DTSTART;TZID=America/Kentucky/Monticello:20300316T100000
DTEND;TZID=America/Kentucky/Monticello:20300316T130000
DTSTAMP:20260420T171141
CREATED:20240114T173245Z
LAST-MODIFIED:20240114T183108Z
UID:10000505-1899885600-1899896400@naknoxville.org
SUMMARY:KANA Area Service Committee (ASC) Meeting
DESCRIPTION:Open to any addict – come take part in discussion at the area level between home groups’ Group Service Representatives (GSRs)\, Area Trusted Servants\, and other participants! \n3rd Saturdays at 10am\, 828 Tulip Avenue!
URL:https://naknoxville.org/event/kana-area-service-committee-asc-meeting/2030-03-16/
LOCATION:Square Dance Center\, 828 Tulip Avenue\, Knoxville\, TN\, 37921\, United States
CATEGORIES:KANA Event,Service Committee
ATTACH;FMTTYPE=image/png:https://naknoxville.org/wp-content/uploads/2023/11/cropped-naBlueLogo-e1616205159655.png
END:VEVENT
BEGIN:VEVENT
DTSTART;TZID=America/Kentucky/Monticello:20300316T180000
DTEND;TZID=America/Kentucky/Monticello:20300316T210000
DTSTAMP:20260420T171141
CREATED:20250921T162128Z
LAST-MODIFIED:20250921T162128Z
UID:10000630-1899914400-1899925200@naknoxville.org
SUMMARY:Faith Over Fear Presents: Monthly Eat & Speak!
DESCRIPTION:
URL:https://naknoxville.org/event/faith-over-fear-presents-monthly-eat-speak/2030-03-16/
LOCATION:Martin Chapel UMC\, 1746 Ohio Ave\, Knoxville\, TN\, 37921\, United States
CATEGORIES:KANA Event
ATTACH;FMTTYPE=image/png:https://naknoxville.org/wp-content/uploads/2025/09/Faith-Over-Fear-Presents.png
END:VEVENT
BEGIN:VEVENT
DTSTART;TZID=America/Kentucky/Monticello:20300318T180000
DTEND;TZID=America/Kentucky/Monticello:20300318T200000
DTSTAMP:20260420T171141
CREATED:20260115T172520Z
LAST-MODIFIED:20260225T154755Z
UID:10000879-1900087200-1900094400@naknoxville.org
SUMMARY:Little River Group's New Literature Review Committee Presents: "The Gang Writes a New NA Book"
DESCRIPTION:
URL:https://naknoxville.org/event/little-river-groups-new-literature-review-committee-presents-the-gang-writes-a-new-na-book/2030-03-18/
LOCATION:Little River Group\, 3722 Old Knoxville Highway\, Rockford\, TN\, 37853\, United States
CATEGORIES:KANA Event
ATTACH;FMTTYPE=image/png:https://naknoxville.org/wp-content/uploads/2026/01/New-Literature-Review-Committee-1.png
END:VEVENT
BEGIN:VEVENT
DTSTART;TZID=America/Kentucky/Monticello:20300325T180000
DTEND;TZID=America/Kentucky/Monticello:20300325T200000
DTSTAMP:20260420T171141
CREATED:20260115T172520Z
LAST-MODIFIED:20260225T154755Z
UID:10000880-1900692000-1900699200@naknoxville.org
SUMMARY:Little River Group's New Literature Review Committee Presents: "The Gang Writes a New NA Book"
DESCRIPTION:
URL:https://naknoxville.org/event/little-river-groups-new-literature-review-committee-presents-the-gang-writes-a-new-na-book/2030-03-25/
LOCATION:Little River Group\, 3722 Old Knoxville Highway\, Rockford\, TN\, 37853\, United States
CATEGORIES:KANA Event
ATTACH;FMTTYPE=image/png:https://naknoxville.org/wp-content/uploads/2026/01/New-Literature-Review-Committee-1.png
END:VEVENT
BEGIN:VEVENT
DTSTART;TZID=America/Kentucky/Monticello:20300401T180000
DTEND;TZID=America/Kentucky/Monticello:20300401T200000
DTSTAMP:20260420T171141
CREATED:20260115T172520Z
LAST-MODIFIED:20260225T154755Z
UID:10000881-1901296800-1901304000@naknoxville.org
SUMMARY:Little River Group's New Literature Review Committee Presents: "The Gang Writes a New NA Book"
DESCRIPTION:
URL:https://naknoxville.org/event/little-river-groups-new-literature-review-committee-presents-the-gang-writes-a-new-na-book/2030-04-01/
LOCATION:Little River Group\, 3722 Old Knoxville Highway\, Rockford\, TN\, 37853\, United States
CATEGORIES:KANA Event
ATTACH;FMTTYPE=image/png:https://naknoxville.org/wp-content/uploads/2026/01/New-Literature-Review-Committee-1.png
END:VEVENT
BEGIN:VEVENT
DTSTART;TZID=America/Kentucky/Monticello:20300407T160000
DTEND;TZID=America/Kentucky/Monticello:20300407T170000
DTSTAMP:20260420T171141
CREATED:20260115T172747Z
LAST-MODIFIED:20260115T172747Z
UID:10000973-1901808000-1901811600@naknoxville.org
SUMMARY:Monthly ROR XXX Meeting
DESCRIPTION:
URL:https://naknoxville.org/event/monthly-ror-xxx-meeting/2030-04-07/
LOCATION:The Gateway\, 530 W Fifth Avenue\, Knoxville\, TN\, 37917\, United States
CATEGORIES:Service Committee
ATTACH;FMTTYPE=image/jpeg:https://naknoxville.org/wp-content/uploads/2023/11/default_nalogo.jpg
END:VEVENT
BEGIN:VEVENT
DTSTART;TZID=America/Kentucky/Monticello:20300408T180000
DTEND;TZID=America/Kentucky/Monticello:20300408T200000
DTSTAMP:20260420T171141
CREATED:20260115T172520Z
LAST-MODIFIED:20260225T154755Z
UID:10000882-1901901600-1901908800@naknoxville.org
SUMMARY:Little River Group's New Literature Review Committee Presents: "The Gang Writes a New NA Book"
DESCRIPTION:
URL:https://naknoxville.org/event/little-river-groups-new-literature-review-committee-presents-the-gang-writes-a-new-na-book/2030-04-08/
LOCATION:Little River Group\, 3722 Old Knoxville Highway\, Rockford\, TN\, 37853\, United States
CATEGORIES:KANA Event
ATTACH;FMTTYPE=image/png:https://naknoxville.org/wp-content/uploads/2026/01/New-Literature-Review-Committee-1.png
END:VEVENT
BEGIN:VEVENT
DTSTART;TZID=America/Kentucky/Monticello:20300409T180000
DTEND;TZID=America/Kentucky/Monticello:20300409T190000
DTSTAMP:20260420T171141
CREATED:20260115T172856Z
LAST-MODIFIED:20260115T172856Z
UID:10001033-1901988000-1901991600@naknoxville.org
SUMMARY:Monthly PR Meeting
DESCRIPTION:
URL:https://naknoxville.org/event/monthly-pr-meeting/2030-04-09/
LOCATION:Little River Group\, 3722 Old Knoxville Highway\, Rockford\, TN\, 37853\, United States
CATEGORIES:Service Committee
ATTACH;FMTTYPE=image/jpeg:https://naknoxville.org/wp-content/uploads/2023/11/default_nalogo.jpg
END:VEVENT
BEGIN:VEVENT
DTSTART;TZID=America/Kentucky/Monticello:20300415T180000
DTEND;TZID=America/Kentucky/Monticello:20300415T200000
DTSTAMP:20260420T171141
CREATED:20260115T172520Z
LAST-MODIFIED:20260225T154755Z
UID:10000883-1902506400-1902513600@naknoxville.org
SUMMARY:Little River Group's New Literature Review Committee Presents: "The Gang Writes a New NA Book"
DESCRIPTION:
URL:https://naknoxville.org/event/little-river-groups-new-literature-review-committee-presents-the-gang-writes-a-new-na-book/2030-04-15/
LOCATION:Little River Group\, 3722 Old Knoxville Highway\, Rockford\, TN\, 37853\, United States
CATEGORIES:KANA Event
ATTACH;FMTTYPE=image/png:https://naknoxville.org/wp-content/uploads/2026/01/New-Literature-Review-Committee-1.png
END:VEVENT
BEGIN:VEVENT
DTSTART;TZID=America/Kentucky/Monticello:20300420T090000
DTEND;TZID=America/Kentucky/Monticello:20300420T100000
DTSTAMP:20260420T171141
CREATED:20240120T152001Z
LAST-MODIFIED:20240120T152002Z
UID:10000512-1902906000-1902909600@naknoxville.org
SUMMARY:KANA H&I Monthly Meeting
DESCRIPTION:Come and get involved in Hospitals and Institutions! Any addict welcome to participate. Orientations given\, some positions involve clean time suggestions and different facilities will have strict requirements.
URL:https://naknoxville.org/event/kana-hi-monthly-meeting-2/2030-04-20/
LOCATION:Square Dance Center\, 828 Tulip Avenue\, Knoxville\, TN\, 37921\, United States
CATEGORIES:H&I,KANA Event,Service Committee
ATTACH;FMTTYPE=image/png:https://naknoxville.org/wp-content/uploads/2023/11/cropped-naBlueLogo-e1616205159655.png
END:VEVENT
END:VCALENDAR