BEGIN:VCALENDAR
VERSION:2.0
PRODID:-//NA Knoxville - ECPv6.15.14//NONSGML v1.0//EN
CALSCALE:GREGORIAN
METHOD:PUBLISH
X-WR-CALNAME:NA Knoxville
X-ORIGINAL-URL:https://naknoxville.org
X-WR-CALDESC:Events for NA Knoxville
REFRESH-INTERVAL;VALUE=DURATION:PT1H
X-Robots-Tag:noindex
X-PUBLISHED-TTL:PT1H
BEGIN:VTIMEZONE
TZID:America/Kentucky/Monticello
BEGIN:DAYLIGHT
TZOFFSETFROM:-0500
TZOFFSETTO:-0400
TZNAME:EDT
DTSTART:20290311T070000
END:DAYLIGHT
BEGIN:STANDARD
TZOFFSETFROM:-0400
TZOFFSETTO:-0500
TZNAME:EST
DTSTART:20291104T060000
END:STANDARD
BEGIN:DAYLIGHT
TZOFFSETFROM:-0500
TZOFFSETTO:-0400
TZNAME:EDT
DTSTART:20300310T070000
END:DAYLIGHT
BEGIN:STANDARD
TZOFFSETFROM:-0400
TZOFFSETTO:-0500
TZNAME:EST
DTSTART:20301103T060000
END:STANDARD
BEGIN:DAYLIGHT
TZOFFSETFROM:-0500
TZOFFSETTO:-0400
TZNAME:EDT
DTSTART:20310309T070000
END:DAYLIGHT
BEGIN:STANDARD
TZOFFSETFROM:-0400
TZOFFSETTO:-0500
TZNAME:EST
DTSTART:20311102T060000
END:STANDARD
END:VTIMEZONE
BEGIN:VEVENT
DTSTART;TZID=America/Kentucky/Monticello:20300805T180000
DTEND;TZID=America/Kentucky/Monticello:20300805T200000
DTSTAMP:20260421T001613
CREATED:20260115T172520Z
LAST-MODIFIED:20260225T154755Z
UID:10000899-1912183200-1912190400@naknoxville.org
SUMMARY:Little River Group's New Literature Review Committee Presents: "The Gang Writes a New NA Book"
DESCRIPTION:
URL:https://naknoxville.org/event/little-river-groups-new-literature-review-committee-presents-the-gang-writes-a-new-na-book/2030-08-05/
LOCATION:Little River Group\, 3722 Old Knoxville Highway\, Rockford\, TN\, 37853\, United States
CATEGORIES:KANA Event
ATTACH;FMTTYPE=image/png:https://naknoxville.org/wp-content/uploads/2026/01/New-Literature-Review-Committee-1.png
END:VEVENT
BEGIN:VEVENT
DTSTART;TZID=America/Kentucky/Monticello:20300812T180000
DTEND;TZID=America/Kentucky/Monticello:20300812T200000
DTSTAMP:20260421T001613
CREATED:20260115T172520Z
LAST-MODIFIED:20260225T154755Z
UID:10000900-1912788000-1912795200@naknoxville.org
SUMMARY:Little River Group's New Literature Review Committee Presents: "The Gang Writes a New NA Book"
DESCRIPTION:
URL:https://naknoxville.org/event/little-river-groups-new-literature-review-committee-presents-the-gang-writes-a-new-na-book/2030-08-12/
LOCATION:Little River Group\, 3722 Old Knoxville Highway\, Rockford\, TN\, 37853\, United States
CATEGORIES:KANA Event
ATTACH;FMTTYPE=image/png:https://naknoxville.org/wp-content/uploads/2026/01/New-Literature-Review-Committee-1.png
END:VEVENT
BEGIN:VEVENT
DTSTART;TZID=America/Kentucky/Monticello:20300813T180000
DTEND;TZID=America/Kentucky/Monticello:20300813T190000
DTSTAMP:20260421T001613
CREATED:20260115T172856Z
LAST-MODIFIED:20260115T172856Z
UID:10001037-1912874400-1912878000@naknoxville.org
SUMMARY:Monthly PR Meeting
DESCRIPTION:
URL:https://naknoxville.org/event/monthly-pr-meeting/2030-08-13/
LOCATION:Little River Group\, 3722 Old Knoxville Highway\, Rockford\, TN\, 37853\, United States
CATEGORIES:Service Committee
ATTACH;FMTTYPE=image/jpeg:https://naknoxville.org/wp-content/uploads/2023/11/default_nalogo.jpg
END:VEVENT
BEGIN:VEVENT
DTSTART;TZID=America/Kentucky/Monticello:20300817T090000
DTEND;TZID=America/Kentucky/Monticello:20300817T100000
DTSTAMP:20260421T001613
CREATED:20240120T152001Z
LAST-MODIFIED:20240120T152002Z
UID:10000565-1913187600-1913191200@naknoxville.org
SUMMARY:KANA H&I Monthly Meeting
DESCRIPTION:Come and get involved in Hospitals and Institutions! Any addict welcome to participate. Orientations given\, some positions involve clean time suggestions and different facilities will have strict requirements.
URL:https://naknoxville.org/event/kana-hi-monthly-meeting-2/2030-08-17/
LOCATION:Square Dance Center\, 828 Tulip Avenue\, Knoxville\, TN\, 37921\, United States
CATEGORIES:H&I,KANA Event,Service Committee
ATTACH;FMTTYPE=image/png:https://naknoxville.org/wp-content/uploads/2023/11/cropped-naBlueLogo-e1616205159655.png
END:VEVENT
BEGIN:VEVENT
DTSTART;TZID=America/Kentucky/Monticello:20300817T100000
DTEND;TZID=America/Kentucky/Monticello:20300817T130000
DTSTAMP:20260421T001613
CREATED:20240114T173245Z
LAST-MODIFIED:20240114T183108Z
UID:10000566-1913191200-1913202000@naknoxville.org
SUMMARY:KANA Area Service Committee (ASC) Meeting
DESCRIPTION:Open to any addict – come take part in discussion at the area level between home groups’ Group Service Representatives (GSRs)\, Area Trusted Servants\, and other participants! \n3rd Saturdays at 10am\, 828 Tulip Avenue!
URL:https://naknoxville.org/event/kana-area-service-committee-asc-meeting/2030-08-17/
LOCATION:Square Dance Center\, 828 Tulip Avenue\, Knoxville\, TN\, 37921\, United States
CATEGORIES:KANA Event,Service Committee
ATTACH;FMTTYPE=image/png:https://naknoxville.org/wp-content/uploads/2023/11/cropped-naBlueLogo-e1616205159655.png
END:VEVENT
BEGIN:VEVENT
DTSTART;TZID=America/Kentucky/Monticello:20300817T180000
DTEND;TZID=America/Kentucky/Monticello:20300817T210000
DTSTAMP:20260421T001613
CREATED:20250921T162128Z
LAST-MODIFIED:20250921T162128Z
UID:10000635-1913220000-1913230800@naknoxville.org
SUMMARY:Faith Over Fear Presents: Monthly Eat & Speak!
DESCRIPTION:
URL:https://naknoxville.org/event/faith-over-fear-presents-monthly-eat-speak/2030-08-17/
LOCATION:Martin Chapel UMC\, 1746 Ohio Ave\, Knoxville\, TN\, 37921\, United States
CATEGORIES:KANA Event
ATTACH;FMTTYPE=image/png:https://naknoxville.org/wp-content/uploads/2025/09/Faith-Over-Fear-Presents.png
END:VEVENT
BEGIN:VEVENT
DTSTART;TZID=America/Kentucky/Monticello:20300819T180000
DTEND;TZID=America/Kentucky/Monticello:20300819T200000
DTSTAMP:20260421T001613
CREATED:20260115T172520Z
LAST-MODIFIED:20260225T154755Z
UID:10000901-1913392800-1913400000@naknoxville.org
SUMMARY:Little River Group's New Literature Review Committee Presents: "The Gang Writes a New NA Book"
DESCRIPTION:
URL:https://naknoxville.org/event/little-river-groups-new-literature-review-committee-presents-the-gang-writes-a-new-na-book/2030-08-19/
LOCATION:Little River Group\, 3722 Old Knoxville Highway\, Rockford\, TN\, 37853\, United States
CATEGORIES:KANA Event
ATTACH;FMTTYPE=image/png:https://naknoxville.org/wp-content/uploads/2026/01/New-Literature-Review-Committee-1.png
END:VEVENT
BEGIN:VEVENT
DTSTART;TZID=America/Kentucky/Monticello:20300826T180000
DTEND;TZID=America/Kentucky/Monticello:20300826T200000
DTSTAMP:20260421T001613
CREATED:20260115T172520Z
LAST-MODIFIED:20260225T154755Z
UID:10000902-1913997600-1914004800@naknoxville.org
SUMMARY:Little River Group's New Literature Review Committee Presents: "The Gang Writes a New NA Book"
DESCRIPTION:
URL:https://naknoxville.org/event/little-river-groups-new-literature-review-committee-presents-the-gang-writes-a-new-na-book/2030-08-26/
LOCATION:Little River Group\, 3722 Old Knoxville Highway\, Rockford\, TN\, 37853\, United States
CATEGORIES:KANA Event
ATTACH;FMTTYPE=image/png:https://naknoxville.org/wp-content/uploads/2026/01/New-Literature-Review-Committee-1.png
END:VEVENT
BEGIN:VEVENT
DTSTART;TZID=America/Kentucky/Monticello:20300901T160000
DTEND;TZID=America/Kentucky/Monticello:20300901T170000
DTSTAMP:20260421T001613
CREATED:20260115T172747Z
LAST-MODIFIED:20260115T172747Z
UID:10000978-1914508800-1914512400@naknoxville.org
SUMMARY:Monthly ROR XXX Meeting
DESCRIPTION:
URL:https://naknoxville.org/event/monthly-ror-xxx-meeting/2030-09-01/
LOCATION:The Gateway\, 530 W Fifth Avenue\, Knoxville\, TN\, 37917\, United States
CATEGORIES:Service Committee
ATTACH;FMTTYPE=image/jpeg:https://naknoxville.org/wp-content/uploads/2023/11/default_nalogo.jpg
END:VEVENT
BEGIN:VEVENT
DTSTART;TZID=America/Kentucky/Monticello:20300902T180000
DTEND;TZID=America/Kentucky/Monticello:20300902T200000
DTSTAMP:20260421T001613
CREATED:20260115T172520Z
LAST-MODIFIED:20260225T154755Z
UID:10000903-1914602400-1914609600@naknoxville.org
SUMMARY:Little River Group's New Literature Review Committee Presents: "The Gang Writes a New NA Book"
DESCRIPTION:
URL:https://naknoxville.org/event/little-river-groups-new-literature-review-committee-presents-the-gang-writes-a-new-na-book/2030-09-02/
LOCATION:Little River Group\, 3722 Old Knoxville Highway\, Rockford\, TN\, 37853\, United States
CATEGORIES:KANA Event
ATTACH;FMTTYPE=image/png:https://naknoxville.org/wp-content/uploads/2026/01/New-Literature-Review-Committee-1.png
END:VEVENT
BEGIN:VEVENT
DTSTART;TZID=America/Kentucky/Monticello:20300909T180000
DTEND;TZID=America/Kentucky/Monticello:20300909T200000
DTSTAMP:20260421T001613
CREATED:20260115T172520Z
LAST-MODIFIED:20260225T154755Z
UID:10000904-1915207200-1915214400@naknoxville.org
SUMMARY:Little River Group's New Literature Review Committee Presents: "The Gang Writes a New NA Book"
DESCRIPTION:
URL:https://naknoxville.org/event/little-river-groups-new-literature-review-committee-presents-the-gang-writes-a-new-na-book/2030-09-09/
LOCATION:Little River Group\, 3722 Old Knoxville Highway\, Rockford\, TN\, 37853\, United States
CATEGORIES:KANA Event
ATTACH;FMTTYPE=image/png:https://naknoxville.org/wp-content/uploads/2026/01/New-Literature-Review-Committee-1.png
END:VEVENT
BEGIN:VEVENT
DTSTART;TZID=America/Kentucky/Monticello:20300910T180000
DTEND;TZID=America/Kentucky/Monticello:20300910T190000
DTSTAMP:20260421T001613
CREATED:20260115T172856Z
LAST-MODIFIED:20260115T172856Z
UID:10001038-1915293600-1915297200@naknoxville.org
SUMMARY:Monthly PR Meeting
DESCRIPTION:
URL:https://naknoxville.org/event/monthly-pr-meeting/2030-09-10/
LOCATION:Little River Group\, 3722 Old Knoxville Highway\, Rockford\, TN\, 37853\, United States
CATEGORIES:Service Committee
ATTACH;FMTTYPE=image/jpeg:https://naknoxville.org/wp-content/uploads/2023/11/default_nalogo.jpg
END:VEVENT
BEGIN:VEVENT
DTSTART;TZID=America/Kentucky/Monticello:20300916T180000
DTEND;TZID=America/Kentucky/Monticello:20300916T200000
DTSTAMP:20260421T001613
CREATED:20260115T172520Z
LAST-MODIFIED:20260225T154755Z
UID:10000905-1915812000-1915819200@naknoxville.org
SUMMARY:Little River Group's New Literature Review Committee Presents: "The Gang Writes a New NA Book"
DESCRIPTION:
URL:https://naknoxville.org/event/little-river-groups-new-literature-review-committee-presents-the-gang-writes-a-new-na-book/2030-09-16/
LOCATION:Little River Group\, 3722 Old Knoxville Highway\, Rockford\, TN\, 37853\, United States
CATEGORIES:KANA Event
ATTACH;FMTTYPE=image/png:https://naknoxville.org/wp-content/uploads/2026/01/New-Literature-Review-Committee-1.png
END:VEVENT
BEGIN:VEVENT
DTSTART;TZID=America/Kentucky/Monticello:20300921T090000
DTEND;TZID=America/Kentucky/Monticello:20300921T100000
DTSTAMP:20260421T001613
CREATED:20240120T152001Z
LAST-MODIFIED:20240120T152002Z
UID:10000637-1916211600-1916215200@naknoxville.org
SUMMARY:KANA H&I Monthly Meeting
DESCRIPTION:Come and get involved in Hospitals and Institutions! Any addict welcome to participate. Orientations given\, some positions involve clean time suggestions and different facilities will have strict requirements.
URL:https://naknoxville.org/event/kana-hi-monthly-meeting-2/2030-09-21/
LOCATION:Square Dance Center\, 828 Tulip Avenue\, Knoxville\, TN\, 37921\, United States
CATEGORIES:H&I,KANA Event,Service Committee
ATTACH;FMTTYPE=image/png:https://naknoxville.org/wp-content/uploads/2023/11/cropped-naBlueLogo-e1616205159655.png
END:VEVENT
BEGIN:VEVENT
DTSTART;TZID=America/Kentucky/Monticello:20300921T100000
DTEND;TZID=America/Kentucky/Monticello:20300921T130000
DTSTAMP:20260421T001613
CREATED:20240114T173245Z
LAST-MODIFIED:20240114T183108Z
UID:10000638-1916215200-1916226000@naknoxville.org
SUMMARY:KANA Area Service Committee (ASC) Meeting
DESCRIPTION:Open to any addict – come take part in discussion at the area level between home groups’ Group Service Representatives (GSRs)\, Area Trusted Servants\, and other participants! \n3rd Saturdays at 10am\, 828 Tulip Avenue!
URL:https://naknoxville.org/event/kana-area-service-committee-asc-meeting/2030-09-21/
LOCATION:Square Dance Center\, 828 Tulip Avenue\, Knoxville\, TN\, 37921\, United States
CATEGORIES:KANA Event,Service Committee
ATTACH;FMTTYPE=image/png:https://naknoxville.org/wp-content/uploads/2023/11/cropped-naBlueLogo-e1616205159655.png
END:VEVENT
BEGIN:VEVENT
DTSTART;TZID=America/Kentucky/Monticello:20300921T180000
DTEND;TZID=America/Kentucky/Monticello:20300921T210000
DTSTAMP:20260421T001613
CREATED:20250921T162128Z
LAST-MODIFIED:20250921T162128Z
UID:10000636-1916244000-1916254800@naknoxville.org
SUMMARY:Faith Over Fear Presents: Monthly Eat & Speak!
DESCRIPTION:
URL:https://naknoxville.org/event/faith-over-fear-presents-monthly-eat-speak/2030-09-21/
LOCATION:Martin Chapel UMC\, 1746 Ohio Ave\, Knoxville\, TN\, 37921\, United States
CATEGORIES:KANA Event
ATTACH;FMTTYPE=image/png:https://naknoxville.org/wp-content/uploads/2025/09/Faith-Over-Fear-Presents.png
END:VEVENT
BEGIN:VEVENT
DTSTART;TZID=America/Kentucky/Monticello:20300923T180000
DTEND;TZID=America/Kentucky/Monticello:20300923T200000
DTSTAMP:20260421T001613
CREATED:20260115T172520Z
LAST-MODIFIED:20260225T154755Z
UID:10000906-1916416800-1916424000@naknoxville.org
SUMMARY:Little River Group's New Literature Review Committee Presents: "The Gang Writes a New NA Book"
DESCRIPTION:
URL:https://naknoxville.org/event/little-river-groups-new-literature-review-committee-presents-the-gang-writes-a-new-na-book/2030-09-23/
LOCATION:Little River Group\, 3722 Old Knoxville Highway\, Rockford\, TN\, 37853\, United States
CATEGORIES:KANA Event
ATTACH;FMTTYPE=image/png:https://naknoxville.org/wp-content/uploads/2026/01/New-Literature-Review-Committee-1.png
END:VEVENT
BEGIN:VEVENT
DTSTART;TZID=America/Kentucky/Monticello:20300930T180000
DTEND;TZID=America/Kentucky/Monticello:20300930T200000
DTSTAMP:20260421T001613
CREATED:20260115T172520Z
LAST-MODIFIED:20260225T154755Z
UID:10000907-1917021600-1917028800@naknoxville.org
SUMMARY:Little River Group's New Literature Review Committee Presents: "The Gang Writes a New NA Book"
DESCRIPTION:
URL:https://naknoxville.org/event/little-river-groups-new-literature-review-committee-presents-the-gang-writes-a-new-na-book/2030-09-30/
LOCATION:Little River Group\, 3722 Old Knoxville Highway\, Rockford\, TN\, 37853\, United States
CATEGORIES:KANA Event
ATTACH;FMTTYPE=image/png:https://naknoxville.org/wp-content/uploads/2026/01/New-Literature-Review-Committee-1.png
END:VEVENT
BEGIN:VEVENT
DTSTART;TZID=America/Kentucky/Monticello:20301006T160000
DTEND;TZID=America/Kentucky/Monticello:20301006T170000
DTSTAMP:20260421T001613
CREATED:20260115T172747Z
LAST-MODIFIED:20260115T172747Z
UID:10000979-1917532800-1917536400@naknoxville.org
SUMMARY:Monthly ROR XXX Meeting
DESCRIPTION:
URL:https://naknoxville.org/event/monthly-ror-xxx-meeting/2030-10-06/
LOCATION:The Gateway\, 530 W Fifth Avenue\, Knoxville\, TN\, 37917\, United States
CATEGORIES:Service Committee
ATTACH;FMTTYPE=image/jpeg:https://naknoxville.org/wp-content/uploads/2023/11/default_nalogo.jpg
END:VEVENT
BEGIN:VEVENT
DTSTART;TZID=America/Kentucky/Monticello:20301007T180000
DTEND;TZID=America/Kentucky/Monticello:20301007T200000
DTSTAMP:20260421T001613
CREATED:20260115T172520Z
LAST-MODIFIED:20260225T154755Z
UID:10000908-1917626400-1917633600@naknoxville.org
SUMMARY:Little River Group's New Literature Review Committee Presents: "The Gang Writes a New NA Book"
DESCRIPTION:
URL:https://naknoxville.org/event/little-river-groups-new-literature-review-committee-presents-the-gang-writes-a-new-na-book/2030-10-07/
LOCATION:Little River Group\, 3722 Old Knoxville Highway\, Rockford\, TN\, 37853\, United States
CATEGORIES:KANA Event
ATTACH;FMTTYPE=image/png:https://naknoxville.org/wp-content/uploads/2026/01/New-Literature-Review-Committee-1.png
END:VEVENT
BEGIN:VEVENT
DTSTART;TZID=America/Kentucky/Monticello:20301008T180000
DTEND;TZID=America/Kentucky/Monticello:20301008T190000
DTSTAMP:20260421T001613
CREATED:20260115T172856Z
LAST-MODIFIED:20260115T172856Z
UID:10001039-1917712800-1917716400@naknoxville.org
SUMMARY:Monthly PR Meeting
DESCRIPTION:
URL:https://naknoxville.org/event/monthly-pr-meeting/2030-10-08/
LOCATION:Little River Group\, 3722 Old Knoxville Highway\, Rockford\, TN\, 37853\, United States
CATEGORIES:Service Committee
ATTACH;FMTTYPE=image/jpeg:https://naknoxville.org/wp-content/uploads/2023/11/default_nalogo.jpg
END:VEVENT
BEGIN:VEVENT
DTSTART;TZID=America/Kentucky/Monticello:20301014T180000
DTEND;TZID=America/Kentucky/Monticello:20301014T200000
DTSTAMP:20260421T001613
CREATED:20260115T172520Z
LAST-MODIFIED:20260225T154755Z
UID:10000909-1918231200-1918238400@naknoxville.org
SUMMARY:Little River Group's New Literature Review Committee Presents: "The Gang Writes a New NA Book"
DESCRIPTION:
URL:https://naknoxville.org/event/little-river-groups-new-literature-review-committee-presents-the-gang-writes-a-new-na-book/2030-10-14/
LOCATION:Little River Group\, 3722 Old Knoxville Highway\, Rockford\, TN\, 37853\, United States
CATEGORIES:KANA Event
ATTACH;FMTTYPE=image/png:https://naknoxville.org/wp-content/uploads/2026/01/New-Literature-Review-Committee-1.png
END:VEVENT
BEGIN:VEVENT
DTSTART;TZID=America/Kentucky/Monticello:20301019T090000
DTEND;TZID=America/Kentucky/Monticello:20301019T100000
DTSTAMP:20260421T001613
CREATED:20240120T152001Z
LAST-MODIFIED:20240120T152002Z
UID:10000640-1918630800-1918634400@naknoxville.org
SUMMARY:KANA H&I Monthly Meeting
DESCRIPTION:Come and get involved in Hospitals and Institutions! Any addict welcome to participate. Orientations given\, some positions involve clean time suggestions and different facilities will have strict requirements.
URL:https://naknoxville.org/event/kana-hi-monthly-meeting-2/2030-10-19/
LOCATION:Square Dance Center\, 828 Tulip Avenue\, Knoxville\, TN\, 37921\, United States
CATEGORIES:H&I,KANA Event,Service Committee
ATTACH;FMTTYPE=image/png:https://naknoxville.org/wp-content/uploads/2023/11/cropped-naBlueLogo-e1616205159655.png
END:VEVENT
BEGIN:VEVENT
DTSTART;TZID=America/Kentucky/Monticello:20301019T100000
DTEND;TZID=America/Kentucky/Monticello:20301019T130000
DTSTAMP:20260421T001613
CREATED:20240114T173245Z
LAST-MODIFIED:20240114T183108Z
UID:10000641-1918634400-1918645200@naknoxville.org
SUMMARY:KANA Area Service Committee (ASC) Meeting
DESCRIPTION:Open to any addict – come take part in discussion at the area level between home groups’ Group Service Representatives (GSRs)\, Area Trusted Servants\, and other participants! \n3rd Saturdays at 10am\, 828 Tulip Avenue!
URL:https://naknoxville.org/event/kana-area-service-committee-asc-meeting/2030-10-19/
LOCATION:Square Dance Center\, 828 Tulip Avenue\, Knoxville\, TN\, 37921\, United States
CATEGORIES:KANA Event,Service Committee
ATTACH;FMTTYPE=image/png:https://naknoxville.org/wp-content/uploads/2023/11/cropped-naBlueLogo-e1616205159655.png
END:VEVENT
BEGIN:VEVENT
DTSTART;TZID=America/Kentucky/Monticello:20301021T180000
DTEND;TZID=America/Kentucky/Monticello:20301021T200000
DTSTAMP:20260421T001613
CREATED:20260115T172520Z
LAST-MODIFIED:20260225T154755Z
UID:10000910-1918836000-1918843200@naknoxville.org
SUMMARY:Little River Group's New Literature Review Committee Presents: "The Gang Writes a New NA Book"
DESCRIPTION:
URL:https://naknoxville.org/event/little-river-groups-new-literature-review-committee-presents-the-gang-writes-a-new-na-book/2030-10-21/
LOCATION:Little River Group\, 3722 Old Knoxville Highway\, Rockford\, TN\, 37853\, United States
CATEGORIES:KANA Event
ATTACH;FMTTYPE=image/png:https://naknoxville.org/wp-content/uploads/2026/01/New-Literature-Review-Committee-1.png
END:VEVENT
BEGIN:VEVENT
DTSTART;TZID=America/Kentucky/Monticello:20301028T180000
DTEND;TZID=America/Kentucky/Monticello:20301028T200000
DTSTAMP:20260421T001613
CREATED:20260115T172520Z
LAST-MODIFIED:20260225T154755Z
UID:10000911-1919440800-1919448000@naknoxville.org
SUMMARY:Little River Group's New Literature Review Committee Presents: "The Gang Writes a New NA Book"
DESCRIPTION:
URL:https://naknoxville.org/event/little-river-groups-new-literature-review-committee-presents-the-gang-writes-a-new-na-book/2030-10-28/
LOCATION:Little River Group\, 3722 Old Knoxville Highway\, Rockford\, TN\, 37853\, United States
CATEGORIES:KANA Event
ATTACH;FMTTYPE=image/png:https://naknoxville.org/wp-content/uploads/2026/01/New-Literature-Review-Committee-1.png
END:VEVENT
BEGIN:VEVENT
DTSTART;TZID=America/Kentucky/Monticello:20301103T160000
DTEND;TZID=America/Kentucky/Monticello:20301103T170000
DTSTAMP:20260421T001613
CREATED:20260115T172747Z
LAST-MODIFIED:20260115T172747Z
UID:10000980-1919952000-1919955600@naknoxville.org
SUMMARY:Monthly ROR XXX Meeting
DESCRIPTION:
URL:https://naknoxville.org/event/monthly-ror-xxx-meeting/2030-11-03/
LOCATION:The Gateway\, 530 W Fifth Avenue\, Knoxville\, TN\, 37917\, United States
CATEGORIES:Service Committee
ATTACH;FMTTYPE=image/jpeg:https://naknoxville.org/wp-content/uploads/2023/11/default_nalogo.jpg
END:VEVENT
BEGIN:VEVENT
DTSTART;TZID=America/Kentucky/Monticello:20301104T180000
DTEND;TZID=America/Kentucky/Monticello:20301104T200000
DTSTAMP:20260421T001613
CREATED:20260115T172520Z
LAST-MODIFIED:20260225T154755Z
UID:10000912-1920045600-1920052800@naknoxville.org
SUMMARY:Little River Group's New Literature Review Committee Presents: "The Gang Writes a New NA Book"
DESCRIPTION:
URL:https://naknoxville.org/event/little-river-groups-new-literature-review-committee-presents-the-gang-writes-a-new-na-book/2030-11-04/
LOCATION:Little River Group\, 3722 Old Knoxville Highway\, Rockford\, TN\, 37853\, United States
CATEGORIES:KANA Event
ATTACH;FMTTYPE=image/png:https://naknoxville.org/wp-content/uploads/2026/01/New-Literature-Review-Committee-1.png
END:VEVENT
BEGIN:VEVENT
DTSTART;TZID=America/Kentucky/Monticello:20301111T180000
DTEND;TZID=America/Kentucky/Monticello:20301111T200000
DTSTAMP:20260421T001613
CREATED:20260115T172520Z
LAST-MODIFIED:20260225T154755Z
UID:10000913-1920650400-1920657600@naknoxville.org
SUMMARY:Little River Group's New Literature Review Committee Presents: "The Gang Writes a New NA Book"
DESCRIPTION:
URL:https://naknoxville.org/event/little-river-groups-new-literature-review-committee-presents-the-gang-writes-a-new-na-book/2030-11-11/
LOCATION:Little River Group\, 3722 Old Knoxville Highway\, Rockford\, TN\, 37853\, United States
CATEGORIES:KANA Event
ATTACH;FMTTYPE=image/png:https://naknoxville.org/wp-content/uploads/2026/01/New-Literature-Review-Committee-1.png
END:VEVENT
BEGIN:VEVENT
DTSTART;TZID=America/Kentucky/Monticello:20301112T180000
DTEND;TZID=America/Kentucky/Monticello:20301112T190000
DTSTAMP:20260421T001613
CREATED:20260115T172856Z
LAST-MODIFIED:20260115T172856Z
UID:10001040-1920736800-1920740400@naknoxville.org
SUMMARY:Monthly PR Meeting
DESCRIPTION:
URL:https://naknoxville.org/event/monthly-pr-meeting/2030-11-12/
LOCATION:Little River Group\, 3722 Old Knoxville Highway\, Rockford\, TN\, 37853\, United States
CATEGORIES:Service Committee
ATTACH;FMTTYPE=image/jpeg:https://naknoxville.org/wp-content/uploads/2023/11/default_nalogo.jpg
END:VEVENT
END:VCALENDAR