BEGIN:VCALENDAR
VERSION:2.0
PRODID:-//NA Knoxville - ECPv6.15.14//NONSGML v1.0//EN
CALSCALE:GREGORIAN
METHOD:PUBLISH
X-WR-CALNAME:NA Knoxville
X-ORIGINAL-URL:https://naknoxville.org
X-WR-CALDESC:Events for NA Knoxville
REFRESH-INTERVAL;VALUE=DURATION:PT1H
X-Robots-Tag:noindex
X-PUBLISHED-TTL:PT1H
BEGIN:VTIMEZONE
TZID:America/Kentucky/Monticello
BEGIN:DAYLIGHT
TZOFFSETFROM:-0500
TZOFFSETTO:-0400
TZNAME:EDT
DTSTART:20280312T070000
END:DAYLIGHT
BEGIN:STANDARD
TZOFFSETFROM:-0400
TZOFFSETTO:-0500
TZNAME:EST
DTSTART:20281105T060000
END:STANDARD
BEGIN:DAYLIGHT
TZOFFSETFROM:-0500
TZOFFSETTO:-0400
TZNAME:EDT
DTSTART:20290311T070000
END:DAYLIGHT
BEGIN:STANDARD
TZOFFSETFROM:-0400
TZOFFSETTO:-0500
TZNAME:EST
DTSTART:20291104T060000
END:STANDARD
BEGIN:DAYLIGHT
TZOFFSETFROM:-0500
TZOFFSETTO:-0400
TZNAME:EDT
DTSTART:20300310T070000
END:DAYLIGHT
BEGIN:STANDARD
TZOFFSETFROM:-0400
TZOFFSETTO:-0500
TZNAME:EST
DTSTART:20301103T060000
END:STANDARD
END:VTIMEZONE
BEGIN:VEVENT
DTSTART;TZID=America/Kentucky/Monticello:20290721T100000
DTEND;TZID=America/Kentucky/Monticello:20290721T130000
DTSTAMP:20260420T031328
CREATED:20240114T173245Z
LAST-MODIFIED:20240114T183108Z
UID:10000470-1879322400-1879333200@naknoxville.org
SUMMARY:KANA Area Service Committee (ASC) Meeting
DESCRIPTION:Open to any addict – come take part in discussion at the area level between home groups’ Group Service Representatives (GSRs)\, Area Trusted Servants\, and other participants! \n3rd Saturdays at 10am\, 828 Tulip Avenue!
URL:https://naknoxville.org/event/kana-area-service-committee-asc-meeting/2029-07-21/
LOCATION:Square Dance Center\, 828 Tulip Avenue\, Knoxville\, TN\, 37921\, United States
CATEGORIES:KANA Event,Service Committee
ATTACH;FMTTYPE=image/png:https://naknoxville.org/wp-content/uploads/2023/11/cropped-naBlueLogo-e1616205159655.png
END:VEVENT
BEGIN:VEVENT
DTSTART;TZID=America/Kentucky/Monticello:20290721T180000
DTEND;TZID=America/Kentucky/Monticello:20290721T210000
DTSTAMP:20260420T031328
CREATED:20250921T162128Z
LAST-MODIFIED:20250921T162128Z
UID:10000622-1879351200-1879362000@naknoxville.org
SUMMARY:Faith Over Fear Presents: Monthly Eat & Speak!
DESCRIPTION:
URL:https://naknoxville.org/event/faith-over-fear-presents-monthly-eat-speak/2029-07-21/
LOCATION:Martin Chapel UMC\, 1746 Ohio Ave\, Knoxville\, TN\, 37921\, United States
CATEGORIES:KANA Event
ATTACH;FMTTYPE=image/png:https://naknoxville.org/wp-content/uploads/2025/09/Faith-Over-Fear-Presents.png
END:VEVENT
BEGIN:VEVENT
DTSTART;TZID=America/Kentucky/Monticello:20290723T180000
DTEND;TZID=America/Kentucky/Monticello:20290723T200000
DTSTAMP:20260420T031328
CREATED:20260115T172520Z
LAST-MODIFIED:20260225T154755Z
UID:10000845-1879524000-1879531200@naknoxville.org
SUMMARY:Little River Group's New Literature Review Committee Presents: "The Gang Writes a New NA Book"
DESCRIPTION:
URL:https://naknoxville.org/event/little-river-groups-new-literature-review-committee-presents-the-gang-writes-a-new-na-book/2029-07-23/
LOCATION:Little River Group\, 3722 Old Knoxville Highway\, Rockford\, TN\, 37853\, United States
CATEGORIES:KANA Event
ATTACH;FMTTYPE=image/png:https://naknoxville.org/wp-content/uploads/2026/01/New-Literature-Review-Committee-1.png
END:VEVENT
BEGIN:VEVENT
DTSTART;TZID=America/Kentucky/Monticello:20290730T180000
DTEND;TZID=America/Kentucky/Monticello:20290730T200000
DTSTAMP:20260420T031328
CREATED:20260115T172520Z
LAST-MODIFIED:20260225T154755Z
UID:10000846-1880128800-1880136000@naknoxville.org
SUMMARY:Little River Group's New Literature Review Committee Presents: "The Gang Writes a New NA Book"
DESCRIPTION:
URL:https://naknoxville.org/event/little-river-groups-new-literature-review-committee-presents-the-gang-writes-a-new-na-book/2029-07-30/
LOCATION:Little River Group\, 3722 Old Knoxville Highway\, Rockford\, TN\, 37853\, United States
CATEGORIES:KANA Event
ATTACH;FMTTYPE=image/png:https://naknoxville.org/wp-content/uploads/2026/01/New-Literature-Review-Committee-1.png
END:VEVENT
BEGIN:VEVENT
DTSTART;TZID=America/Kentucky/Monticello:20290805T160000
DTEND;TZID=America/Kentucky/Monticello:20290805T170000
DTSTAMP:20260420T031328
CREATED:20260115T172747Z
LAST-MODIFIED:20260115T172747Z
UID:10000965-1880640000-1880643600@naknoxville.org
SUMMARY:Monthly ROR XXX Meeting
DESCRIPTION:
URL:https://naknoxville.org/event/monthly-ror-xxx-meeting/2029-08-05/
LOCATION:The Gateway\, 530 W Fifth Avenue\, Knoxville\, TN\, 37917\, United States
CATEGORIES:Service Committee
ATTACH;FMTTYPE=image/jpeg:https://naknoxville.org/wp-content/uploads/2023/11/default_nalogo.jpg
END:VEVENT
BEGIN:VEVENT
DTSTART;TZID=America/Kentucky/Monticello:20290806T180000
DTEND;TZID=America/Kentucky/Monticello:20290806T200000
DTSTAMP:20260420T031328
CREATED:20260115T172520Z
LAST-MODIFIED:20260225T154755Z
UID:10000847-1880733600-1880740800@naknoxville.org
SUMMARY:Little River Group's New Literature Review Committee Presents: "The Gang Writes a New NA Book"
DESCRIPTION:
URL:https://naknoxville.org/event/little-river-groups-new-literature-review-committee-presents-the-gang-writes-a-new-na-book/2029-08-06/
LOCATION:Little River Group\, 3722 Old Knoxville Highway\, Rockford\, TN\, 37853\, United States
CATEGORIES:KANA Event
ATTACH;FMTTYPE=image/png:https://naknoxville.org/wp-content/uploads/2026/01/New-Literature-Review-Committee-1.png
END:VEVENT
BEGIN:VEVENT
DTSTART;TZID=America/Kentucky/Monticello:20290813T180000
DTEND;TZID=America/Kentucky/Monticello:20290813T200000
DTSTAMP:20260420T031328
CREATED:20260115T172520Z
LAST-MODIFIED:20260225T154755Z
UID:10000848-1881338400-1881345600@naknoxville.org
SUMMARY:Little River Group's New Literature Review Committee Presents: "The Gang Writes a New NA Book"
DESCRIPTION:
URL:https://naknoxville.org/event/little-river-groups-new-literature-review-committee-presents-the-gang-writes-a-new-na-book/2029-08-13/
LOCATION:Little River Group\, 3722 Old Knoxville Highway\, Rockford\, TN\, 37853\, United States
CATEGORIES:KANA Event
ATTACH;FMTTYPE=image/png:https://naknoxville.org/wp-content/uploads/2026/01/New-Literature-Review-Committee-1.png
END:VEVENT
BEGIN:VEVENT
DTSTART;TZID=America/Kentucky/Monticello:20290814T180000
DTEND;TZID=America/Kentucky/Monticello:20290814T190000
DTSTAMP:20260420T031328
CREATED:20260115T172856Z
LAST-MODIFIED:20260115T172856Z
UID:10001025-1881424800-1881428400@naknoxville.org
SUMMARY:Monthly PR Meeting
DESCRIPTION:
URL:https://naknoxville.org/event/monthly-pr-meeting/2029-08-14/
LOCATION:Little River Group\, 3722 Old Knoxville Highway\, Rockford\, TN\, 37853\, United States
CATEGORIES:Service Committee
ATTACH;FMTTYPE=image/jpeg:https://naknoxville.org/wp-content/uploads/2023/11/default_nalogo.jpg
END:VEVENT
BEGIN:VEVENT
DTSTART;TZID=America/Kentucky/Monticello:20290818T090000
DTEND;TZID=America/Kentucky/Monticello:20290818T100000
DTSTAMP:20260420T031328
CREATED:20240120T152001Z
LAST-MODIFIED:20240120T152002Z
UID:10000446-1881738000-1881741600@naknoxville.org
SUMMARY:KANA H&I Monthly Meeting
DESCRIPTION:Come and get involved in Hospitals and Institutions! Any addict welcome to participate. Orientations given\, some positions involve clean time suggestions and different facilities will have strict requirements.
URL:https://naknoxville.org/event/kana-hi-monthly-meeting-2/2029-08-18/
LOCATION:Square Dance Center\, 828 Tulip Avenue\, Knoxville\, TN\, 37921\, United States
CATEGORIES:H&I,KANA Event,Service Committee
ATTACH;FMTTYPE=image/png:https://naknoxville.org/wp-content/uploads/2023/11/cropped-naBlueLogo-e1616205159655.png
END:VEVENT
BEGIN:VEVENT
DTSTART;TZID=America/Kentucky/Monticello:20290818T100000
DTEND;TZID=America/Kentucky/Monticello:20290818T130000
DTSTAMP:20260420T031328
CREATED:20240114T173245Z
LAST-MODIFIED:20240114T183108Z
UID:10000471-1881741600-1881752400@naknoxville.org
SUMMARY:KANA Area Service Committee (ASC) Meeting
DESCRIPTION:Open to any addict – come take part in discussion at the area level between home groups’ Group Service Representatives (GSRs)\, Area Trusted Servants\, and other participants! \n3rd Saturdays at 10am\, 828 Tulip Avenue!
URL:https://naknoxville.org/event/kana-area-service-committee-asc-meeting/2029-08-18/
LOCATION:Square Dance Center\, 828 Tulip Avenue\, Knoxville\, TN\, 37921\, United States
CATEGORIES:KANA Event,Service Committee
ATTACH;FMTTYPE=image/png:https://naknoxville.org/wp-content/uploads/2023/11/cropped-naBlueLogo-e1616205159655.png
END:VEVENT
BEGIN:VEVENT
DTSTART;TZID=America/Kentucky/Monticello:20290818T180000
DTEND;TZID=America/Kentucky/Monticello:20290818T210000
DTSTAMP:20260420T031328
CREATED:20250921T162128Z
LAST-MODIFIED:20250921T162128Z
UID:10000623-1881770400-1881781200@naknoxville.org
SUMMARY:Faith Over Fear Presents: Monthly Eat & Speak!
DESCRIPTION:
URL:https://naknoxville.org/event/faith-over-fear-presents-monthly-eat-speak/2029-08-18/
LOCATION:Martin Chapel UMC\, 1746 Ohio Ave\, Knoxville\, TN\, 37921\, United States
CATEGORIES:KANA Event
ATTACH;FMTTYPE=image/png:https://naknoxville.org/wp-content/uploads/2025/09/Faith-Over-Fear-Presents.png
END:VEVENT
BEGIN:VEVENT
DTSTART;TZID=America/Kentucky/Monticello:20290820T180000
DTEND;TZID=America/Kentucky/Monticello:20290820T200000
DTSTAMP:20260420T031328
CREATED:20260115T172520Z
LAST-MODIFIED:20260225T154755Z
UID:10000849-1881943200-1881950400@naknoxville.org
SUMMARY:Little River Group's New Literature Review Committee Presents: "The Gang Writes a New NA Book"
DESCRIPTION:
URL:https://naknoxville.org/event/little-river-groups-new-literature-review-committee-presents-the-gang-writes-a-new-na-book/2029-08-20/
LOCATION:Little River Group\, 3722 Old Knoxville Highway\, Rockford\, TN\, 37853\, United States
CATEGORIES:KANA Event
ATTACH;FMTTYPE=image/png:https://naknoxville.org/wp-content/uploads/2026/01/New-Literature-Review-Committee-1.png
END:VEVENT
BEGIN:VEVENT
DTSTART;TZID=America/Kentucky/Monticello:20290827T180000
DTEND;TZID=America/Kentucky/Monticello:20290827T200000
DTSTAMP:20260420T031328
CREATED:20260115T172520Z
LAST-MODIFIED:20260225T154755Z
UID:10000850-1882548000-1882555200@naknoxville.org
SUMMARY:Little River Group's New Literature Review Committee Presents: "The Gang Writes a New NA Book"
DESCRIPTION:
URL:https://naknoxville.org/event/little-river-groups-new-literature-review-committee-presents-the-gang-writes-a-new-na-book/2029-08-27/
LOCATION:Little River Group\, 3722 Old Knoxville Highway\, Rockford\, TN\, 37853\, United States
CATEGORIES:KANA Event
ATTACH;FMTTYPE=image/png:https://naknoxville.org/wp-content/uploads/2026/01/New-Literature-Review-Committee-1.png
END:VEVENT
BEGIN:VEVENT
DTSTART;TZID=America/Kentucky/Monticello:20290902T160000
DTEND;TZID=America/Kentucky/Monticello:20290902T170000
DTSTAMP:20260420T031328
CREATED:20260115T172747Z
LAST-MODIFIED:20260115T172747Z
UID:10000966-1883059200-1883062800@naknoxville.org
SUMMARY:Monthly ROR XXX Meeting
DESCRIPTION:
URL:https://naknoxville.org/event/monthly-ror-xxx-meeting/2029-09-02/
LOCATION:The Gateway\, 530 W Fifth Avenue\, Knoxville\, TN\, 37917\, United States
CATEGORIES:Service Committee
ATTACH;FMTTYPE=image/jpeg:https://naknoxville.org/wp-content/uploads/2023/11/default_nalogo.jpg
END:VEVENT
BEGIN:VEVENT
DTSTART;TZID=America/Kentucky/Monticello:20290903T180000
DTEND;TZID=America/Kentucky/Monticello:20290903T200000
DTSTAMP:20260420T031328
CREATED:20260115T172520Z
LAST-MODIFIED:20260225T154755Z
UID:10000851-1883152800-1883160000@naknoxville.org
SUMMARY:Little River Group's New Literature Review Committee Presents: "The Gang Writes a New NA Book"
DESCRIPTION:
URL:https://naknoxville.org/event/little-river-groups-new-literature-review-committee-presents-the-gang-writes-a-new-na-book/2029-09-03/
LOCATION:Little River Group\, 3722 Old Knoxville Highway\, Rockford\, TN\, 37853\, United States
CATEGORIES:KANA Event
ATTACH;FMTTYPE=image/png:https://naknoxville.org/wp-content/uploads/2026/01/New-Literature-Review-Committee-1.png
END:VEVENT
BEGIN:VEVENT
DTSTART;TZID=America/Kentucky/Monticello:20290910T180000
DTEND;TZID=America/Kentucky/Monticello:20290910T200000
DTSTAMP:20260420T031328
CREATED:20260115T172520Z
LAST-MODIFIED:20260225T154755Z
UID:10000852-1883757600-1883764800@naknoxville.org
SUMMARY:Little River Group's New Literature Review Committee Presents: "The Gang Writes a New NA Book"
DESCRIPTION:
URL:https://naknoxville.org/event/little-river-groups-new-literature-review-committee-presents-the-gang-writes-a-new-na-book/2029-09-10/
LOCATION:Little River Group\, 3722 Old Knoxville Highway\, Rockford\, TN\, 37853\, United States
CATEGORIES:KANA Event
ATTACH;FMTTYPE=image/png:https://naknoxville.org/wp-content/uploads/2026/01/New-Literature-Review-Committee-1.png
END:VEVENT
BEGIN:VEVENT
DTSTART;TZID=America/Kentucky/Monticello:20290911T180000
DTEND;TZID=America/Kentucky/Monticello:20290911T190000
DTSTAMP:20260420T031328
CREATED:20260115T172856Z
LAST-MODIFIED:20260115T172856Z
UID:10001026-1883844000-1883847600@naknoxville.org
SUMMARY:Monthly PR Meeting
DESCRIPTION:
URL:https://naknoxville.org/event/monthly-pr-meeting/2029-09-11/
LOCATION:Little River Group\, 3722 Old Knoxville Highway\, Rockford\, TN\, 37853\, United States
CATEGORIES:Service Committee
ATTACH;FMTTYPE=image/jpeg:https://naknoxville.org/wp-content/uploads/2023/11/default_nalogo.jpg
END:VEVENT
BEGIN:VEVENT
DTSTART;TZID=America/Kentucky/Monticello:20290915T090000
DTEND;TZID=America/Kentucky/Monticello:20290915T100000
DTSTAMP:20260420T031328
CREATED:20240120T152001Z
LAST-MODIFIED:20240120T152002Z
UID:10000447-1884157200-1884160800@naknoxville.org
SUMMARY:KANA H&I Monthly Meeting
DESCRIPTION:Come and get involved in Hospitals and Institutions! Any addict welcome to participate. Orientations given\, some positions involve clean time suggestions and different facilities will have strict requirements.
URL:https://naknoxville.org/event/kana-hi-monthly-meeting-2/2029-09-15/
LOCATION:Square Dance Center\, 828 Tulip Avenue\, Knoxville\, TN\, 37921\, United States
CATEGORIES:H&I,KANA Event,Service Committee
ATTACH;FMTTYPE=image/png:https://naknoxville.org/wp-content/uploads/2023/11/cropped-naBlueLogo-e1616205159655.png
END:VEVENT
BEGIN:VEVENT
DTSTART;TZID=America/Kentucky/Monticello:20290915T100000
DTEND;TZID=America/Kentucky/Monticello:20290915T130000
DTSTAMP:20260420T031328
CREATED:20240114T173245Z
LAST-MODIFIED:20240114T183108Z
UID:10000472-1884160800-1884171600@naknoxville.org
SUMMARY:KANA Area Service Committee (ASC) Meeting
DESCRIPTION:Open to any addict – come take part in discussion at the area level between home groups’ Group Service Representatives (GSRs)\, Area Trusted Servants\, and other participants! \n3rd Saturdays at 10am\, 828 Tulip Avenue!
URL:https://naknoxville.org/event/kana-area-service-committee-asc-meeting/2029-09-15/
LOCATION:Square Dance Center\, 828 Tulip Avenue\, Knoxville\, TN\, 37921\, United States
CATEGORIES:KANA Event,Service Committee
ATTACH;FMTTYPE=image/png:https://naknoxville.org/wp-content/uploads/2023/11/cropped-naBlueLogo-e1616205159655.png
END:VEVENT
BEGIN:VEVENT
DTSTART;TZID=America/Kentucky/Monticello:20290915T180000
DTEND;TZID=America/Kentucky/Monticello:20290915T210000
DTSTAMP:20260420T031328
CREATED:20250921T162128Z
LAST-MODIFIED:20250921T162128Z
UID:10000624-1884189600-1884200400@naknoxville.org
SUMMARY:Faith Over Fear Presents: Monthly Eat & Speak!
DESCRIPTION:
URL:https://naknoxville.org/event/faith-over-fear-presents-monthly-eat-speak/2029-09-15/
LOCATION:Martin Chapel UMC\, 1746 Ohio Ave\, Knoxville\, TN\, 37921\, United States
CATEGORIES:KANA Event
ATTACH;FMTTYPE=image/png:https://naknoxville.org/wp-content/uploads/2025/09/Faith-Over-Fear-Presents.png
END:VEVENT
BEGIN:VEVENT
DTSTART;TZID=America/Kentucky/Monticello:20290917T180000
DTEND;TZID=America/Kentucky/Monticello:20290917T200000
DTSTAMP:20260420T031328
CREATED:20260115T172520Z
LAST-MODIFIED:20260225T154755Z
UID:10000853-1884362400-1884369600@naknoxville.org
SUMMARY:Little River Group's New Literature Review Committee Presents: "The Gang Writes a New NA Book"
DESCRIPTION:
URL:https://naknoxville.org/event/little-river-groups-new-literature-review-committee-presents-the-gang-writes-a-new-na-book/2029-09-17/
LOCATION:Little River Group\, 3722 Old Knoxville Highway\, Rockford\, TN\, 37853\, United States
CATEGORIES:KANA Event
ATTACH;FMTTYPE=image/png:https://naknoxville.org/wp-content/uploads/2026/01/New-Literature-Review-Committee-1.png
END:VEVENT
BEGIN:VEVENT
DTSTART;TZID=America/Kentucky/Monticello:20290924T180000
DTEND;TZID=America/Kentucky/Monticello:20290924T200000
DTSTAMP:20260420T031328
CREATED:20260115T172520Z
LAST-MODIFIED:20260225T154755Z
UID:10000854-1884967200-1884974400@naknoxville.org
SUMMARY:Little River Group's New Literature Review Committee Presents: "The Gang Writes a New NA Book"
DESCRIPTION:
URL:https://naknoxville.org/event/little-river-groups-new-literature-review-committee-presents-the-gang-writes-a-new-na-book/2029-09-24/
LOCATION:Little River Group\, 3722 Old Knoxville Highway\, Rockford\, TN\, 37853\, United States
CATEGORIES:KANA Event
ATTACH;FMTTYPE=image/png:https://naknoxville.org/wp-content/uploads/2026/01/New-Literature-Review-Committee-1.png
END:VEVENT
BEGIN:VEVENT
DTSTART;TZID=America/Kentucky/Monticello:20291001T180000
DTEND;TZID=America/Kentucky/Monticello:20291001T200000
DTSTAMP:20260420T031328
CREATED:20260115T172520Z
LAST-MODIFIED:20260225T154755Z
UID:10000855-1885572000-1885579200@naknoxville.org
SUMMARY:Little River Group's New Literature Review Committee Presents: "The Gang Writes a New NA Book"
DESCRIPTION:
URL:https://naknoxville.org/event/little-river-groups-new-literature-review-committee-presents-the-gang-writes-a-new-na-book/2029-10-01/
LOCATION:Little River Group\, 3722 Old Knoxville Highway\, Rockford\, TN\, 37853\, United States
CATEGORIES:KANA Event
ATTACH;FMTTYPE=image/png:https://naknoxville.org/wp-content/uploads/2026/01/New-Literature-Review-Committee-1.png
END:VEVENT
BEGIN:VEVENT
DTSTART;TZID=America/Kentucky/Monticello:20291007T160000
DTEND;TZID=America/Kentucky/Monticello:20291007T170000
DTSTAMP:20260420T031328
CREATED:20260115T172747Z
LAST-MODIFIED:20260115T172747Z
UID:10000967-1886083200-1886086800@naknoxville.org
SUMMARY:Monthly ROR XXX Meeting
DESCRIPTION:
URL:https://naknoxville.org/event/monthly-ror-xxx-meeting/2029-10-07/
LOCATION:The Gateway\, 530 W Fifth Avenue\, Knoxville\, TN\, 37917\, United States
CATEGORIES:Service Committee
ATTACH;FMTTYPE=image/jpeg:https://naknoxville.org/wp-content/uploads/2023/11/default_nalogo.jpg
END:VEVENT
BEGIN:VEVENT
DTSTART;TZID=America/Kentucky/Monticello:20291008T180000
DTEND;TZID=America/Kentucky/Monticello:20291008T200000
DTSTAMP:20260420T031328
CREATED:20260115T172520Z
LAST-MODIFIED:20260225T154755Z
UID:10000856-1886176800-1886184000@naknoxville.org
SUMMARY:Little River Group's New Literature Review Committee Presents: "The Gang Writes a New NA Book"
DESCRIPTION:
URL:https://naknoxville.org/event/little-river-groups-new-literature-review-committee-presents-the-gang-writes-a-new-na-book/2029-10-08/
LOCATION:Little River Group\, 3722 Old Knoxville Highway\, Rockford\, TN\, 37853\, United States
CATEGORIES:KANA Event
ATTACH;FMTTYPE=image/png:https://naknoxville.org/wp-content/uploads/2026/01/New-Literature-Review-Committee-1.png
END:VEVENT
BEGIN:VEVENT
DTSTART;TZID=America/Kentucky/Monticello:20291009T180000
DTEND;TZID=America/Kentucky/Monticello:20291009T190000
DTSTAMP:20260420T031328
CREATED:20260115T172856Z
LAST-MODIFIED:20260115T172856Z
UID:10001027-1886263200-1886266800@naknoxville.org
SUMMARY:Monthly PR Meeting
DESCRIPTION:
URL:https://naknoxville.org/event/monthly-pr-meeting/2029-10-09/
LOCATION:Little River Group\, 3722 Old Knoxville Highway\, Rockford\, TN\, 37853\, United States
CATEGORIES:Service Committee
ATTACH;FMTTYPE=image/jpeg:https://naknoxville.org/wp-content/uploads/2023/11/default_nalogo.jpg
END:VEVENT
BEGIN:VEVENT
DTSTART;TZID=America/Kentucky/Monticello:20291015T180000
DTEND;TZID=America/Kentucky/Monticello:20291015T200000
DTSTAMP:20260420T031328
CREATED:20260115T172520Z
LAST-MODIFIED:20260225T154755Z
UID:10000857-1886781600-1886788800@naknoxville.org
SUMMARY:Little River Group's New Literature Review Committee Presents: "The Gang Writes a New NA Book"
DESCRIPTION:
URL:https://naknoxville.org/event/little-river-groups-new-literature-review-committee-presents-the-gang-writes-a-new-na-book/2029-10-15/
LOCATION:Little River Group\, 3722 Old Knoxville Highway\, Rockford\, TN\, 37853\, United States
CATEGORIES:KANA Event
ATTACH;FMTTYPE=image/png:https://naknoxville.org/wp-content/uploads/2026/01/New-Literature-Review-Committee-1.png
END:VEVENT
BEGIN:VEVENT
DTSTART;TZID=America/Kentucky/Monticello:20291020T090000
DTEND;TZID=America/Kentucky/Monticello:20291020T100000
DTSTAMP:20260420T031328
CREATED:20240120T152001Z
LAST-MODIFIED:20240120T152002Z
UID:10000448-1887181200-1887184800@naknoxville.org
SUMMARY:KANA H&I Monthly Meeting
DESCRIPTION:Come and get involved in Hospitals and Institutions! Any addict welcome to participate. Orientations given\, some positions involve clean time suggestions and different facilities will have strict requirements.
URL:https://naknoxville.org/event/kana-hi-monthly-meeting-2/2029-10-20/
LOCATION:Square Dance Center\, 828 Tulip Avenue\, Knoxville\, TN\, 37921\, United States
CATEGORIES:H&I,KANA Event,Service Committee
ATTACH;FMTTYPE=image/png:https://naknoxville.org/wp-content/uploads/2023/11/cropped-naBlueLogo-e1616205159655.png
END:VEVENT
BEGIN:VEVENT
DTSTART;TZID=America/Kentucky/Monticello:20291020T100000
DTEND;TZID=America/Kentucky/Monticello:20291020T130000
DTSTAMP:20260420T031328
CREATED:20240114T173245Z
LAST-MODIFIED:20240114T183108Z
UID:10000473-1887184800-1887195600@naknoxville.org
SUMMARY:KANA Area Service Committee (ASC) Meeting
DESCRIPTION:Open to any addict – come take part in discussion at the area level between home groups’ Group Service Representatives (GSRs)\, Area Trusted Servants\, and other participants! \n3rd Saturdays at 10am\, 828 Tulip Avenue!
URL:https://naknoxville.org/event/kana-area-service-committee-asc-meeting/2029-10-20/
LOCATION:Square Dance Center\, 828 Tulip Avenue\, Knoxville\, TN\, 37921\, United States
CATEGORIES:KANA Event,Service Committee
ATTACH;FMTTYPE=image/png:https://naknoxville.org/wp-content/uploads/2023/11/cropped-naBlueLogo-e1616205159655.png
END:VEVENT
BEGIN:VEVENT
DTSTART;TZID=America/Kentucky/Monticello:20291020T180000
DTEND;TZID=America/Kentucky/Monticello:20291020T210000
DTSTAMP:20260420T031328
CREATED:20250921T162128Z
LAST-MODIFIED:20250921T162128Z
UID:10000625-1887213600-1887224400@naknoxville.org
SUMMARY:Faith Over Fear Presents: Monthly Eat & Speak!
DESCRIPTION:
URL:https://naknoxville.org/event/faith-over-fear-presents-monthly-eat-speak/2029-10-20/
LOCATION:Martin Chapel UMC\, 1746 Ohio Ave\, Knoxville\, TN\, 37921\, United States
CATEGORIES:KANA Event
ATTACH;FMTTYPE=image/png:https://naknoxville.org/wp-content/uploads/2025/09/Faith-Over-Fear-Presents.png
END:VEVENT
END:VCALENDAR