BEGIN:VCALENDAR
VERSION:2.0
PRODID:-//NA Knoxville - ECPv6.15.14//NONSGML v1.0//EN
CALSCALE:GREGORIAN
METHOD:PUBLISH
X-ORIGINAL-URL:https://naknoxville.org
X-WR-CALDESC:Events for NA Knoxville
REFRESH-INTERVAL;VALUE=DURATION:PT1H
X-Robots-Tag:noindex
X-PUBLISHED-TTL:PT1H
BEGIN:VTIMEZONE
TZID:America/Kentucky/Monticello
BEGIN:DAYLIGHT
TZOFFSETFROM:-0500
TZOFFSETTO:-0400
TZNAME:EDT
DTSTART:20260308T070000
END:DAYLIGHT
BEGIN:STANDARD
TZOFFSETFROM:-0400
TZOFFSETTO:-0500
TZNAME:EST
DTSTART:20261101T060000
END:STANDARD
BEGIN:DAYLIGHT
TZOFFSETFROM:-0500
TZOFFSETTO:-0400
TZNAME:EDT
DTSTART:20270314T070000
END:DAYLIGHT
BEGIN:STANDARD
TZOFFSETFROM:-0400
TZOFFSETTO:-0500
TZNAME:EST
DTSTART:20271107T060000
END:STANDARD
BEGIN:DAYLIGHT
TZOFFSETFROM:-0500
TZOFFSETTO:-0400
TZNAME:EDT
DTSTART:20280312T070000
END:DAYLIGHT
BEGIN:STANDARD
TZOFFSETFROM:-0400
TZOFFSETTO:-0500
TZNAME:EST
DTSTART:20281105T060000
END:STANDARD
BEGIN:DAYLIGHT
TZOFFSETFROM:-0500
TZOFFSETTO:-0400
TZNAME:EDT
DTSTART:20290311T070000
END:DAYLIGHT
BEGIN:STANDARD
TZOFFSETFROM:-0400
TZOFFSETTO:-0500
TZNAME:EST
DTSTART:20291104T060000
END:STANDARD
BEGIN:DAYLIGHT
TZOFFSETFROM:-0500
TZOFFSETTO:-0400
TZNAME:EDT
DTSTART:20300310T070000
END:DAYLIGHT
BEGIN:STANDARD
TZOFFSETFROM:-0400
TZOFFSETTO:-0500
TZNAME:EST
DTSTART:20301103T060000
END:STANDARD
END:VTIMEZONE
BEGIN:VEVENT
DTSTART;TZID=America/Kentucky/Monticello:20271016T100000
DTEND;TZID=America/Kentucky/Monticello:20271016T130000
DTSTAMP:20260424T163744
CREATED:20240114T173245Z
LAST-MODIFIED:20240114T183108Z
UID:10000047-1823680800-1823691600@naknoxville.org
SUMMARY:KANA Area Service Committee (ASC) Meeting
DESCRIPTION:Open to any addict – come take part in discussion at the area level between home groups’ Group Service Representatives (GSRs)\, Area Trusted Servants\, and other participants! \n3rd Saturdays at 10am\, 828 Tulip Avenue!
URL:https://naknoxville.org/event/kana-area-service-committee-asc-meeting/2027-10-16/
LOCATION:Square Dance Center\, 828 Tulip Avenue\, Knoxville\, TN\, 37921\, United States
CATEGORIES:KANA Event,Service Committee
ATTACH;FMTTYPE=image/png:https://naknoxville.org/wp-content/uploads/2023/11/cropped-naBlueLogo-e1616205159655.png
END:VEVENT
BEGIN:VEVENT
DTSTART;TZID=America/Kentucky/Monticello:20271120T090000
DTEND;TZID=America/Kentucky/Monticello:20271120T100000
DTSTAMP:20260424T163744
CREATED:20240120T152001Z
LAST-MODIFIED:20240120T152002Z
UID:10000347-1826701200-1826704800@naknoxville.org
SUMMARY:KANA H&I Monthly Meeting
DESCRIPTION:Come and get involved in Hospitals and Institutions! Any addict welcome to participate. Orientations given\, some positions involve clean time suggestions and different facilities will have strict requirements.
URL:https://naknoxville.org/event/kana-hi-monthly-meeting-2/2027-11-20/
LOCATION:Square Dance Center\, 828 Tulip Avenue\, Knoxville\, TN\, 37921\, United States
CATEGORIES:H&I,KANA Event,Service Committee
ATTACH;FMTTYPE=image/png:https://naknoxville.org/wp-content/uploads/2023/11/cropped-naBlueLogo-e1616205159655.png
END:VEVENT
BEGIN:VEVENT
DTSTART;TZID=America/Kentucky/Monticello:20271120T100000
DTEND;TZID=America/Kentucky/Monticello:20271120T130000
DTSTAMP:20260424T163744
CREATED:20240114T173245Z
LAST-MODIFIED:20240114T183108Z
UID:10000048-1826704800-1826715600@naknoxville.org
SUMMARY:KANA Area Service Committee (ASC) Meeting
DESCRIPTION:Open to any addict – come take part in discussion at the area level between home groups’ Group Service Representatives (GSRs)\, Area Trusted Servants\, and other participants! \n3rd Saturdays at 10am\, 828 Tulip Avenue!
URL:https://naknoxville.org/event/kana-area-service-committee-asc-meeting/2027-11-20/
LOCATION:Square Dance Center\, 828 Tulip Avenue\, Knoxville\, TN\, 37921\, United States
CATEGORIES:KANA Event,Service Committee
ATTACH;FMTTYPE=image/png:https://naknoxville.org/wp-content/uploads/2023/11/cropped-naBlueLogo-e1616205159655.png
END:VEVENT
BEGIN:VEVENT
DTSTART;TZID=America/Kentucky/Monticello:20271218T090000
DTEND;TZID=America/Kentucky/Monticello:20271218T100000
DTSTAMP:20260424T163744
CREATED:20240120T152001Z
LAST-MODIFIED:20240120T152002Z
UID:10000348-1829120400-1829124000@naknoxville.org
SUMMARY:KANA H&I Monthly Meeting
DESCRIPTION:Come and get involved in Hospitals and Institutions! Any addict welcome to participate. Orientations given\, some positions involve clean time suggestions and different facilities will have strict requirements.
URL:https://naknoxville.org/event/kana-hi-monthly-meeting-2/2027-12-18/
LOCATION:Square Dance Center\, 828 Tulip Avenue\, Knoxville\, TN\, 37921\, United States
CATEGORIES:H&I,KANA Event,Service Committee
ATTACH;FMTTYPE=image/png:https://naknoxville.org/wp-content/uploads/2023/11/cropped-naBlueLogo-e1616205159655.png
END:VEVENT
BEGIN:VEVENT
DTSTART;TZID=America/Kentucky/Monticello:20271218T100000
DTEND;TZID=America/Kentucky/Monticello:20271218T130000
DTSTAMP:20260424T163744
CREATED:20240114T173245Z
LAST-MODIFIED:20240114T183108Z
UID:10000049-1829124000-1829134800@naknoxville.org
SUMMARY:KANA Area Service Committee (ASC) Meeting
DESCRIPTION:Open to any addict – come take part in discussion at the area level between home groups’ Group Service Representatives (GSRs)\, Area Trusted Servants\, and other participants! \n3rd Saturdays at 10am\, 828 Tulip Avenue!
URL:https://naknoxville.org/event/kana-area-service-committee-asc-meeting/2027-12-18/
LOCATION:Square Dance Center\, 828 Tulip Avenue\, Knoxville\, TN\, 37921\, United States
CATEGORIES:KANA Event,Service Committee
ATTACH;FMTTYPE=image/png:https://naknoxville.org/wp-content/uploads/2023/11/cropped-naBlueLogo-e1616205159655.png
END:VEVENT
BEGIN:VEVENT
DTSTART;TZID=America/Kentucky/Monticello:20280115T090000
DTEND;TZID=America/Kentucky/Monticello:20280115T100000
DTSTAMP:20260424T163744
CREATED:20240120T152001Z
LAST-MODIFIED:20240120T152002Z
UID:10000349-1831539600-1831543200@naknoxville.org
SUMMARY:KANA H&I Monthly Meeting
DESCRIPTION:Come and get involved in Hospitals and Institutions! Any addict welcome to participate. Orientations given\, some positions involve clean time suggestions and different facilities will have strict requirements.
URL:https://naknoxville.org/event/kana-hi-monthly-meeting-2/2028-01-15/
LOCATION:Square Dance Center\, 828 Tulip Avenue\, Knoxville\, TN\, 37921\, United States
CATEGORIES:H&I,KANA Event,Service Committee
ATTACH;FMTTYPE=image/png:https://naknoxville.org/wp-content/uploads/2023/11/cropped-naBlueLogo-e1616205159655.png
END:VEVENT
BEGIN:VEVENT
DTSTART;TZID=America/Kentucky/Monticello:20280115T100000
DTEND;TZID=America/Kentucky/Monticello:20280115T130000
DTSTAMP:20260424T163744
CREATED:20240114T173245Z
LAST-MODIFIED:20240114T183108Z
UID:10000050-1831543200-1831554000@naknoxville.org
SUMMARY:KANA Area Service Committee (ASC) Meeting
DESCRIPTION:Open to any addict – come take part in discussion at the area level between home groups’ Group Service Representatives (GSRs)\, Area Trusted Servants\, and other participants! \n3rd Saturdays at 10am\, 828 Tulip Avenue!
URL:https://naknoxville.org/event/kana-area-service-committee-asc-meeting/2028-01-15/
LOCATION:Square Dance Center\, 828 Tulip Avenue\, Knoxville\, TN\, 37921\, United States
CATEGORIES:KANA Event,Service Committee
ATTACH;FMTTYPE=image/png:https://naknoxville.org/wp-content/uploads/2023/11/cropped-naBlueLogo-e1616205159655.png
END:VEVENT
BEGIN:VEVENT
DTSTART;TZID=America/Kentucky/Monticello:20280219T090000
DTEND;TZID=America/Kentucky/Monticello:20280219T100000
DTSTAMP:20260424T163744
CREATED:20240120T152001Z
LAST-MODIFIED:20240120T152002Z
UID:10000350-1834563600-1834567200@naknoxville.org
SUMMARY:KANA H&I Monthly Meeting
DESCRIPTION:Come and get involved in Hospitals and Institutions! Any addict welcome to participate. Orientations given\, some positions involve clean time suggestions and different facilities will have strict requirements.
URL:https://naknoxville.org/event/kana-hi-monthly-meeting-2/2028-02-19/
LOCATION:Square Dance Center\, 828 Tulip Avenue\, Knoxville\, TN\, 37921\, United States
CATEGORIES:H&I,KANA Event,Service Committee
ATTACH;FMTTYPE=image/png:https://naknoxville.org/wp-content/uploads/2023/11/cropped-naBlueLogo-e1616205159655.png
END:VEVENT
BEGIN:VEVENT
DTSTART;TZID=America/Kentucky/Monticello:20280219T100000
DTEND;TZID=America/Kentucky/Monticello:20280219T130000
DTSTAMP:20260424T163744
CREATED:20240114T173245Z
LAST-MODIFIED:20240114T183108Z
UID:10000051-1834567200-1834578000@naknoxville.org
SUMMARY:KANA Area Service Committee (ASC) Meeting
DESCRIPTION:Open to any addict – come take part in discussion at the area level between home groups’ Group Service Representatives (GSRs)\, Area Trusted Servants\, and other participants! \n3rd Saturdays at 10am\, 828 Tulip Avenue!
URL:https://naknoxville.org/event/kana-area-service-committee-asc-meeting/2028-02-19/
LOCATION:Square Dance Center\, 828 Tulip Avenue\, Knoxville\, TN\, 37921\, United States
CATEGORIES:KANA Event,Service Committee
ATTACH;FMTTYPE=image/png:https://naknoxville.org/wp-content/uploads/2023/11/cropped-naBlueLogo-e1616205159655.png
END:VEVENT
BEGIN:VEVENT
DTSTART;TZID=America/Kentucky/Monticello:20280318T090000
DTEND;TZID=America/Kentucky/Monticello:20280318T100000
DTSTAMP:20260424T163744
CREATED:20240120T152001Z
LAST-MODIFIED:20240120T152002Z
UID:10000351-1836982800-1836986400@naknoxville.org
SUMMARY:KANA H&I Monthly Meeting
DESCRIPTION:Come and get involved in Hospitals and Institutions! Any addict welcome to participate. Orientations given\, some positions involve clean time suggestions and different facilities will have strict requirements.
URL:https://naknoxville.org/event/kana-hi-monthly-meeting-2/2028-03-18/
LOCATION:Square Dance Center\, 828 Tulip Avenue\, Knoxville\, TN\, 37921\, United States
CATEGORIES:H&I,KANA Event,Service Committee
ATTACH;FMTTYPE=image/png:https://naknoxville.org/wp-content/uploads/2023/11/cropped-naBlueLogo-e1616205159655.png
END:VEVENT
BEGIN:VEVENT
DTSTART;TZID=America/Kentucky/Monticello:20280318T100000
DTEND;TZID=America/Kentucky/Monticello:20280318T130000
DTSTAMP:20260424T163744
CREATED:20240114T173245Z
LAST-MODIFIED:20240114T183108Z
UID:10000052-1836986400-1836997200@naknoxville.org
SUMMARY:KANA Area Service Committee (ASC) Meeting
DESCRIPTION:Open to any addict – come take part in discussion at the area level between home groups’ Group Service Representatives (GSRs)\, Area Trusted Servants\, and other participants! \n3rd Saturdays at 10am\, 828 Tulip Avenue!
URL:https://naknoxville.org/event/kana-area-service-committee-asc-meeting/2028-03-18/
LOCATION:Square Dance Center\, 828 Tulip Avenue\, Knoxville\, TN\, 37921\, United States
CATEGORIES:KANA Event,Service Committee
ATTACH;FMTTYPE=image/png:https://naknoxville.org/wp-content/uploads/2023/11/cropped-naBlueLogo-e1616205159655.png
END:VEVENT
BEGIN:VEVENT
DTSTART;TZID=America/Kentucky/Monticello:20280415T090000
DTEND;TZID=America/Kentucky/Monticello:20280415T100000
DTSTAMP:20260424T163744
CREATED:20240120T152001Z
LAST-MODIFIED:20240120T152002Z
UID:10000352-1839402000-1839405600@naknoxville.org
SUMMARY:KANA H&I Monthly Meeting
DESCRIPTION:Come and get involved in Hospitals and Institutions! Any addict welcome to participate. Orientations given\, some positions involve clean time suggestions and different facilities will have strict requirements.
URL:https://naknoxville.org/event/kana-hi-monthly-meeting-2/2028-04-15/
LOCATION:Square Dance Center\, 828 Tulip Avenue\, Knoxville\, TN\, 37921\, United States
CATEGORIES:H&I,KANA Event,Service Committee
ATTACH;FMTTYPE=image/png:https://naknoxville.org/wp-content/uploads/2023/11/cropped-naBlueLogo-e1616205159655.png
END:VEVENT
BEGIN:VEVENT
DTSTART;TZID=America/Kentucky/Monticello:20280415T100000
DTEND;TZID=America/Kentucky/Monticello:20280415T130000
DTSTAMP:20260424T163744
CREATED:20240114T173245Z
LAST-MODIFIED:20240114T183108Z
UID:10000053-1839405600-1839416400@naknoxville.org
SUMMARY:KANA Area Service Committee (ASC) Meeting
DESCRIPTION:Open to any addict – come take part in discussion at the area level between home groups’ Group Service Representatives (GSRs)\, Area Trusted Servants\, and other participants! \n3rd Saturdays at 10am\, 828 Tulip Avenue!
URL:https://naknoxville.org/event/kana-area-service-committee-asc-meeting/2028-04-15/
LOCATION:Square Dance Center\, 828 Tulip Avenue\, Knoxville\, TN\, 37921\, United States
CATEGORIES:KANA Event,Service Committee
ATTACH;FMTTYPE=image/png:https://naknoxville.org/wp-content/uploads/2023/11/cropped-naBlueLogo-e1616205159655.png
END:VEVENT
BEGIN:VEVENT
DTSTART;TZID=America/Kentucky/Monticello:20280520T090000
DTEND;TZID=America/Kentucky/Monticello:20280520T100000
DTSTAMP:20260424T163744
CREATED:20240120T152001Z
LAST-MODIFIED:20240120T152002Z
UID:10000353-1842426000-1842429600@naknoxville.org
SUMMARY:KANA H&I Monthly Meeting
DESCRIPTION:Come and get involved in Hospitals and Institutions! Any addict welcome to participate. Orientations given\, some positions involve clean time suggestions and different facilities will have strict requirements.
URL:https://naknoxville.org/event/kana-hi-monthly-meeting-2/2028-05-20/
LOCATION:Square Dance Center\, 828 Tulip Avenue\, Knoxville\, TN\, 37921\, United States
CATEGORIES:H&I,KANA Event,Service Committee
ATTACH;FMTTYPE=image/png:https://naknoxville.org/wp-content/uploads/2023/11/cropped-naBlueLogo-e1616205159655.png
END:VEVENT
BEGIN:VEVENT
DTSTART;TZID=America/Kentucky/Monticello:20280520T100000
DTEND;TZID=America/Kentucky/Monticello:20280520T130000
DTSTAMP:20260424T163744
CREATED:20240114T173245Z
LAST-MODIFIED:20240114T183108Z
UID:10000054-1842429600-1842440400@naknoxville.org
SUMMARY:KANA Area Service Committee (ASC) Meeting
DESCRIPTION:Open to any addict – come take part in discussion at the area level between home groups’ Group Service Representatives (GSRs)\, Area Trusted Servants\, and other participants! \n3rd Saturdays at 10am\, 828 Tulip Avenue!
URL:https://naknoxville.org/event/kana-area-service-committee-asc-meeting/2028-05-20/
LOCATION:Square Dance Center\, 828 Tulip Avenue\, Knoxville\, TN\, 37921\, United States
CATEGORIES:KANA Event,Service Committee
ATTACH;FMTTYPE=image/png:https://naknoxville.org/wp-content/uploads/2023/11/cropped-naBlueLogo-e1616205159655.png
END:VEVENT
BEGIN:VEVENT
DTSTART;TZID=America/Kentucky/Monticello:20280617T090000
DTEND;TZID=America/Kentucky/Monticello:20280617T100000
DTSTAMP:20260424T163744
CREATED:20240120T152001Z
LAST-MODIFIED:20240120T152002Z
UID:10000354-1844845200-1844848800@naknoxville.org
SUMMARY:KANA H&I Monthly Meeting
DESCRIPTION:Come and get involved in Hospitals and Institutions! Any addict welcome to participate. Orientations given\, some positions involve clean time suggestions and different facilities will have strict requirements.
URL:https://naknoxville.org/event/kana-hi-monthly-meeting-2/2028-06-17/
LOCATION:Square Dance Center\, 828 Tulip Avenue\, Knoxville\, TN\, 37921\, United States
CATEGORIES:H&I,KANA Event,Service Committee
ATTACH;FMTTYPE=image/png:https://naknoxville.org/wp-content/uploads/2023/11/cropped-naBlueLogo-e1616205159655.png
END:VEVENT
BEGIN:VEVENT
DTSTART;TZID=America/Kentucky/Monticello:20280617T100000
DTEND;TZID=America/Kentucky/Monticello:20280617T130000
DTSTAMP:20260424T163744
CREATED:20240114T173245Z
LAST-MODIFIED:20240114T183108Z
UID:10000055-1844848800-1844859600@naknoxville.org
SUMMARY:KANA Area Service Committee (ASC) Meeting
DESCRIPTION:Open to any addict – come take part in discussion at the area level between home groups’ Group Service Representatives (GSRs)\, Area Trusted Servants\, and other participants! \n3rd Saturdays at 10am\, 828 Tulip Avenue!
URL:https://naknoxville.org/event/kana-area-service-committee-asc-meeting/2028-06-17/
LOCATION:Square Dance Center\, 828 Tulip Avenue\, Knoxville\, TN\, 37921\, United States
CATEGORIES:KANA Event,Service Committee
ATTACH;FMTTYPE=image/png:https://naknoxville.org/wp-content/uploads/2023/11/cropped-naBlueLogo-e1616205159655.png
END:VEVENT
BEGIN:VEVENT
DTSTART;TZID=America/Kentucky/Monticello:20280715T090000
DTEND;TZID=America/Kentucky/Monticello:20280715T100000
DTSTAMP:20260424T163744
CREATED:20240120T152001Z
LAST-MODIFIED:20240120T152002Z
UID:10000355-1847264400-1847268000@naknoxville.org
SUMMARY:KANA H&I Monthly Meeting
DESCRIPTION:Come and get involved in Hospitals and Institutions! Any addict welcome to participate. Orientations given\, some positions involve clean time suggestions and different facilities will have strict requirements.
URL:https://naknoxville.org/event/kana-hi-monthly-meeting-2/2028-07-15/
LOCATION:Square Dance Center\, 828 Tulip Avenue\, Knoxville\, TN\, 37921\, United States
CATEGORIES:H&I,KANA Event,Service Committee
ATTACH;FMTTYPE=image/png:https://naknoxville.org/wp-content/uploads/2023/11/cropped-naBlueLogo-e1616205159655.png
END:VEVENT
BEGIN:VEVENT
DTSTART;TZID=America/Kentucky/Monticello:20280715T100000
DTEND;TZID=America/Kentucky/Monticello:20280715T130000
DTSTAMP:20260424T163744
CREATED:20240114T173245Z
LAST-MODIFIED:20240114T183108Z
UID:10000056-1847268000-1847278800@naknoxville.org
SUMMARY:KANA Area Service Committee (ASC) Meeting
DESCRIPTION:Open to any addict – come take part in discussion at the area level between home groups’ Group Service Representatives (GSRs)\, Area Trusted Servants\, and other participants! \n3rd Saturdays at 10am\, 828 Tulip Avenue!
URL:https://naknoxville.org/event/kana-area-service-committee-asc-meeting/2028-07-15/
LOCATION:Square Dance Center\, 828 Tulip Avenue\, Knoxville\, TN\, 37921\, United States
CATEGORIES:KANA Event,Service Committee
ATTACH;FMTTYPE=image/png:https://naknoxville.org/wp-content/uploads/2023/11/cropped-naBlueLogo-e1616205159655.png
END:VEVENT
BEGIN:VEVENT
DTSTART;TZID=America/Kentucky/Monticello:20280819T090000
DTEND;TZID=America/Kentucky/Monticello:20280819T100000
DTSTAMP:20260424T163744
CREATED:20240120T152001Z
LAST-MODIFIED:20240120T152002Z
UID:10000356-1850288400-1850292000@naknoxville.org
SUMMARY:KANA H&I Monthly Meeting
DESCRIPTION:Come and get involved in Hospitals and Institutions! Any addict welcome to participate. Orientations given\, some positions involve clean time suggestions and different facilities will have strict requirements.
URL:https://naknoxville.org/event/kana-hi-monthly-meeting-2/2028-08-19/
LOCATION:Square Dance Center\, 828 Tulip Avenue\, Knoxville\, TN\, 37921\, United States
CATEGORIES:H&I,KANA Event,Service Committee
ATTACH;FMTTYPE=image/png:https://naknoxville.org/wp-content/uploads/2023/11/cropped-naBlueLogo-e1616205159655.png
END:VEVENT
BEGIN:VEVENT
DTSTART;TZID=America/Kentucky/Monticello:20280819T100000
DTEND;TZID=America/Kentucky/Monticello:20280819T130000
DTSTAMP:20260424T163744
CREATED:20240114T173245Z
LAST-MODIFIED:20240114T183108Z
UID:10000057-1850292000-1850302800@naknoxville.org
SUMMARY:KANA Area Service Committee (ASC) Meeting
DESCRIPTION:Open to any addict – come take part in discussion at the area level between home groups’ Group Service Representatives (GSRs)\, Area Trusted Servants\, and other participants! \n3rd Saturdays at 10am\, 828 Tulip Avenue!
URL:https://naknoxville.org/event/kana-area-service-committee-asc-meeting/2028-08-19/
LOCATION:Square Dance Center\, 828 Tulip Avenue\, Knoxville\, TN\, 37921\, United States
CATEGORIES:KANA Event,Service Committee
ATTACH;FMTTYPE=image/png:https://naknoxville.org/wp-content/uploads/2023/11/cropped-naBlueLogo-e1616205159655.png
END:VEVENT
BEGIN:VEVENT
DTSTART;TZID=America/Kentucky/Monticello:20280916T090000
DTEND;TZID=America/Kentucky/Monticello:20280916T100000
DTSTAMP:20260424T163744
CREATED:20240120T152001Z
LAST-MODIFIED:20240120T152002Z
UID:10000357-1852707600-1852711200@naknoxville.org
SUMMARY:KANA H&I Monthly Meeting
DESCRIPTION:Come and get involved in Hospitals and Institutions! Any addict welcome to participate. Orientations given\, some positions involve clean time suggestions and different facilities will have strict requirements.
URL:https://naknoxville.org/event/kana-hi-monthly-meeting-2/2028-09-16/
LOCATION:Square Dance Center\, 828 Tulip Avenue\, Knoxville\, TN\, 37921\, United States
CATEGORIES:H&I,KANA Event,Service Committee
ATTACH;FMTTYPE=image/png:https://naknoxville.org/wp-content/uploads/2023/11/cropped-naBlueLogo-e1616205159655.png
END:VEVENT
BEGIN:VEVENT
DTSTART;TZID=America/Kentucky/Monticello:20280916T100000
DTEND;TZID=America/Kentucky/Monticello:20280916T130000
DTSTAMP:20260424T163744
CREATED:20240114T173245Z
LAST-MODIFIED:20240114T183108Z
UID:10000058-1852711200-1852722000@naknoxville.org
SUMMARY:KANA Area Service Committee (ASC) Meeting
DESCRIPTION:Open to any addict – come take part in discussion at the area level between home groups’ Group Service Representatives (GSRs)\, Area Trusted Servants\, and other participants! \n3rd Saturdays at 10am\, 828 Tulip Avenue!
URL:https://naknoxville.org/event/kana-area-service-committee-asc-meeting/2028-09-16/
LOCATION:Square Dance Center\, 828 Tulip Avenue\, Knoxville\, TN\, 37921\, United States
CATEGORIES:KANA Event,Service Committee
ATTACH;FMTTYPE=image/png:https://naknoxville.org/wp-content/uploads/2023/11/cropped-naBlueLogo-e1616205159655.png
END:VEVENT
BEGIN:VEVENT
DTSTART;TZID=America/Kentucky/Monticello:20281021T090000
DTEND;TZID=America/Kentucky/Monticello:20281021T100000
DTSTAMP:20260424T163744
CREATED:20240120T152001Z
LAST-MODIFIED:20240120T152002Z
UID:10000358-1855731600-1855735200@naknoxville.org
SUMMARY:KANA H&I Monthly Meeting
DESCRIPTION:Come and get involved in Hospitals and Institutions! Any addict welcome to participate. Orientations given\, some positions involve clean time suggestions and different facilities will have strict requirements.
URL:https://naknoxville.org/event/kana-hi-monthly-meeting-2/2028-10-21/
LOCATION:Square Dance Center\, 828 Tulip Avenue\, Knoxville\, TN\, 37921\, United States
CATEGORIES:H&I,KANA Event,Service Committee
ATTACH;FMTTYPE=image/png:https://naknoxville.org/wp-content/uploads/2023/11/cropped-naBlueLogo-e1616205159655.png
END:VEVENT
BEGIN:VEVENT
DTSTART;TZID=America/Kentucky/Monticello:20281021T100000
DTEND;TZID=America/Kentucky/Monticello:20281021T130000
DTSTAMP:20260424T163744
CREATED:20240114T173245Z
LAST-MODIFIED:20240114T183108Z
UID:10000059-1855735200-1855746000@naknoxville.org
SUMMARY:KANA Area Service Committee (ASC) Meeting
DESCRIPTION:Open to any addict – come take part in discussion at the area level between home groups’ Group Service Representatives (GSRs)\, Area Trusted Servants\, and other participants! \n3rd Saturdays at 10am\, 828 Tulip Avenue!
URL:https://naknoxville.org/event/kana-area-service-committee-asc-meeting/2028-10-21/
LOCATION:Square Dance Center\, 828 Tulip Avenue\, Knoxville\, TN\, 37921\, United States
CATEGORIES:KANA Event,Service Committee
ATTACH;FMTTYPE=image/png:https://naknoxville.org/wp-content/uploads/2023/11/cropped-naBlueLogo-e1616205159655.png
END:VEVENT
BEGIN:VEVENT
DTSTART;TZID=America/Kentucky/Monticello:20281118T090000
DTEND;TZID=America/Kentucky/Monticello:20281118T100000
DTSTAMP:20260424T163744
CREATED:20240120T152001Z
LAST-MODIFIED:20240120T152002Z
UID:10000359-1858150800-1858154400@naknoxville.org
SUMMARY:KANA H&I Monthly Meeting
DESCRIPTION:Come and get involved in Hospitals and Institutions! Any addict welcome to participate. Orientations given\, some positions involve clean time suggestions and different facilities will have strict requirements.
URL:https://naknoxville.org/event/kana-hi-monthly-meeting-2/2028-11-18/
LOCATION:Square Dance Center\, 828 Tulip Avenue\, Knoxville\, TN\, 37921\, United States
CATEGORIES:H&I,KANA Event,Service Committee
ATTACH;FMTTYPE=image/png:https://naknoxville.org/wp-content/uploads/2023/11/cropped-naBlueLogo-e1616205159655.png
END:VEVENT
BEGIN:VEVENT
DTSTART;TZID=America/Kentucky/Monticello:20281118T100000
DTEND;TZID=America/Kentucky/Monticello:20281118T130000
DTSTAMP:20260424T163744
CREATED:20240114T173245Z
LAST-MODIFIED:20240114T183108Z
UID:10000060-1858154400-1858165200@naknoxville.org
SUMMARY:KANA Area Service Committee (ASC) Meeting
DESCRIPTION:Open to any addict – come take part in discussion at the area level between home groups’ Group Service Representatives (GSRs)\, Area Trusted Servants\, and other participants! \n3rd Saturdays at 10am\, 828 Tulip Avenue!
URL:https://naknoxville.org/event/kana-area-service-committee-asc-meeting/2028-11-18/
LOCATION:Square Dance Center\, 828 Tulip Avenue\, Knoxville\, TN\, 37921\, United States
CATEGORIES:KANA Event,Service Committee
ATTACH;FMTTYPE=image/png:https://naknoxville.org/wp-content/uploads/2023/11/cropped-naBlueLogo-e1616205159655.png
END:VEVENT
BEGIN:VEVENT
DTSTART;TZID=America/Kentucky/Monticello:20281216T090000
DTEND;TZID=America/Kentucky/Monticello:20281216T100000
DTSTAMP:20260424T163744
CREATED:20240120T152001Z
LAST-MODIFIED:20240120T152002Z
UID:10000360-1860570000-1860573600@naknoxville.org
SUMMARY:KANA H&I Monthly Meeting
DESCRIPTION:Come and get involved in Hospitals and Institutions! Any addict welcome to participate. Orientations given\, some positions involve clean time suggestions and different facilities will have strict requirements.
URL:https://naknoxville.org/event/kana-hi-monthly-meeting-2/2028-12-16/
LOCATION:Square Dance Center\, 828 Tulip Avenue\, Knoxville\, TN\, 37921\, United States
CATEGORIES:H&I,KANA Event,Service Committee
ATTACH;FMTTYPE=image/png:https://naknoxville.org/wp-content/uploads/2023/11/cropped-naBlueLogo-e1616205159655.png
END:VEVENT
BEGIN:VEVENT
DTSTART;TZID=America/Kentucky/Monticello:20281216T100000
DTEND;TZID=America/Kentucky/Monticello:20281216T130000
DTSTAMP:20260424T163744
CREATED:20240114T173245Z
LAST-MODIFIED:20240114T183108Z
UID:10000061-1860573600-1860584400@naknoxville.org
SUMMARY:KANA Area Service Committee (ASC) Meeting
DESCRIPTION:Open to any addict – come take part in discussion at the area level between home groups’ Group Service Representatives (GSRs)\, Area Trusted Servants\, and other participants! \n3rd Saturdays at 10am\, 828 Tulip Avenue!
URL:https://naknoxville.org/event/kana-area-service-committee-asc-meeting/2028-12-16/
LOCATION:Square Dance Center\, 828 Tulip Avenue\, Knoxville\, TN\, 37921\, United States
CATEGORIES:KANA Event,Service Committee
ATTACH;FMTTYPE=image/png:https://naknoxville.org/wp-content/uploads/2023/11/cropped-naBlueLogo-e1616205159655.png
END:VEVENT
BEGIN:VEVENT
DTSTART;TZID=America/Kentucky/Monticello:20290120T090000
DTEND;TZID=America/Kentucky/Monticello:20290120T100000
DTSTAMP:20260424T163744
CREATED:20240120T152001Z
LAST-MODIFIED:20240120T152002Z
UID:10000361-1863594000-1863597600@naknoxville.org
SUMMARY:KANA H&I Monthly Meeting
DESCRIPTION:Come and get involved in Hospitals and Institutions! Any addict welcome to participate. Orientations given\, some positions involve clean time suggestions and different facilities will have strict requirements.
URL:https://naknoxville.org/event/kana-hi-monthly-meeting-2/2029-01-20/
LOCATION:Square Dance Center\, 828 Tulip Avenue\, Knoxville\, TN\, 37921\, United States
CATEGORIES:H&I,KANA Event,Service Committee
ATTACH;FMTTYPE=image/png:https://naknoxville.org/wp-content/uploads/2023/11/cropped-naBlueLogo-e1616205159655.png
END:VEVENT
END:VCALENDAR